BEGIN:VCALENDAR
VERSION:2.0
PRODID:-//Camp Occohannock on the Bay - ECPv6.15.13//NONSGML v1.0//EN
CALSCALE:GREGORIAN
METHOD:PUBLISH
X-WR-CALNAME:Camp Occohannock on the Bay
X-ORIGINAL-URL:https://www.ootbay.org
X-WR-CALDESC:Events for Camp Occohannock on the Bay
REFRESH-INTERVAL;VALUE=DURATION:PT1H
X-Robots-Tag:noindex
X-PUBLISHED-TTL:PT1H
BEGIN:VTIMEZONE
TZID:UTC
BEGIN:STANDARD
TZOFFSETFROM:+0000
TZOFFSETTO:+0000
TZNAME:UTC
DTSTART:20250101T000000
END:STANDARD
END:VTIMEZONE
BEGIN:VEVENT
DTSTART;TZID=UTC:20260129T080000
DTEND;TZID=UTC:20260129T170000
DTSTAMP:20260423T114023
CREATED:20260129T183324Z
LAST-MODIFIED:20260129T183736Z
UID:7546-1769673600-1769706000@www.ootbay.org
SUMMARY:Week 2 Camp - Elementary / Middle School
DESCRIPTION:Information & Registration
URL:https://www.ootbay.org/event/week-2-camp-elementary-middle-school/
ATTACH;FMTTYPE=image/png:https://www.ootbay.org/wp-content/uploads/2025/10/2026-Summer-Camp-Schedule-3.png
END:VEVENT
END:VCALENDAR