BEGIN:VCALENDAR
VERSION:2.0
PRODID:-//Camp Occohannock on the Bay - ECPv6.15.13//NONSGML v1.0//EN
CALSCALE:GREGORIAN
METHOD:PUBLISH
X-ORIGINAL-URL:https://www.ootbay.org
X-WR-CALDESC:Events for Camp Occohannock on the Bay
REFRESH-INTERVAL;VALUE=DURATION:PT1H
X-Robots-Tag:noindex
X-PUBLISHED-TTL:PT1H
BEGIN:VTIMEZONE
TZID:UTC
BEGIN:STANDARD
TZOFFSETFROM:+0000
TZOFFSETTO:+0000
TZNAME:UTC
DTSTART:20240101T000000
END:STANDARD
END:VTIMEZONE
BEGIN:VEVENT
DTSTART;TZID=UTC:20250926T190000
DTEND;TZID=UTC:20250928T103000
DTSTAMP:20260423T181631
CREATED:20250204T180812Z
LAST-MODIFIED:20250204T180812Z
UID:6905-1758913200-1759055400@www.ootbay.org
SUMMARY:Coastal Virginia District Retreat - Lead Us Not Into Temptation - Middle School
DESCRIPTION:Information and Registration: https://www.ootbay.org/coastal-virginia-retreat/
URL:https://www.ootbay.org/event/coastal-virginia-district-retreat-lead-us-not-into-temptation-middle-school/
END:VEVENT
END:VCALENDAR