BEGIN:VCALENDAR
VERSION:2.0
PRODID:-//Camp Occohannock on the Bay - ECPv6.15.13//NONSGML v1.0//EN
CALSCALE:GREGORIAN
METHOD:PUBLISH
X-ORIGINAL-URL:https://www.ootbay.org
X-WR-CALDESC:Events for Camp Occohannock on the Bay
REFRESH-INTERVAL;VALUE=DURATION:PT1H
X-Robots-Tag:noindex
X-PUBLISHED-TTL:PT1H
BEGIN:VTIMEZONE
TZID:UTC
BEGIN:STANDARD
TZOFFSETFROM:+0000
TZOFFSETTO:+0000
TZNAME:UTC
DTSTART:20230101T000000
END:STANDARD
END:VTIMEZONE
BEGIN:VEVENT
DTSTART;VALUE=DATE:20240605
DTEND;VALUE=DATE:20240615
DTSTAMP:20260424T190813
CREATED:20231017T150631Z
LAST-MODIFIED:20231017T150631Z
UID:6187-1717545600-1718409599@www.ootbay.org
SUMMARY:Summer Staff Training
DESCRIPTION:
URL:https://www.ootbay.org/event/summer-staff-training/
END:VEVENT
BEGIN:VEVENT
DTSTART;VALUE=DATE:20240615
DTEND;VALUE=DATE:20240618
DTSTAMP:20260424T190813
CREATED:20231017T150748Z
LAST-MODIFIED:20231017T150748Z
UID:6189-1718409600-1718668799@www.ootbay.org
SUMMARY:First AID\, CPR\, AED & Lifeguarding Classes
DESCRIPTION:
URL:https://www.ootbay.org/event/first-aid-cpr-aed-lifeguarding-classes/
END:VEVENT
BEGIN:VEVENT
DTSTART;TZID=UTC:20240616T160000
DTEND;TZID=UTC:20240621T150000
DTSTAMP:20260424T190813
CREATED:20240111T160614Z
LAST-MODIFIED:20240111T160614Z
UID:6471-1718553600-1718982000@www.ootbay.org
SUMMARY:Elementary Camp Week 1
DESCRIPTION:For more Information & Registration \nSummer Camp Residential \n \n 
URL:https://www.ootbay.org/event/elementary-camp-week-1/
END:VEVENT
BEGIN:VEVENT
DTSTART;TZID=UTC:20240616T160000
DTEND;TZID=UTC:20240621T160000
DTSTAMP:20260424T190813
CREATED:20240111T161708Z
LAST-MODIFIED:20240111T161708Z
UID:6479-1718553600-1718985600@www.ootbay.org
SUMMARY:Middle School Week 1
DESCRIPTION:Information & Registration \nSummer Camp Residential
URL:https://www.ootbay.org/event/middle-school-week-1/
END:VEVENT
BEGIN:VEVENT
DTSTART;TZID=UTC:20240617T080000
DTEND;TZID=UTC:20240621T170000
DTSTAMP:20260424T190813
CREATED:20240111T164005Z
LAST-MODIFIED:20240111T164005Z
UID:6495-1718611200-1718989200@www.ootbay.org
SUMMARY:L.E.A.P. Day Camp Week 1
DESCRIPTION:Information is located both on Day Camp & Residential Pages Here: \nSummer Camp Options
URL:https://www.ootbay.org/event/l-e-a-p-day-camp-week-1/
END:VEVENT
BEGIN:VEVENT
DTSTART;TZID=UTC:20240617T080000
DTEND;TZID=UTC:20240622T170000
DTSTAMP:20260424T190813
CREATED:20240111T154402Z
LAST-MODIFIED:20240111T154402Z
UID:6455-1718611200-1719075600@www.ootbay.org
SUMMARY:Week 1 Day Camp - Zoobilee
DESCRIPTION:Check Out information or Register Here \nSummer Camp Day Camp
URL:https://www.ootbay.org/event/week-1-day-camp-zoobilee/
END:VEVENT
BEGIN:VEVENT
DTSTART;TZID=UTC:20240623T160000
DTEND;TZID=UTC:20240628T150000
DTSTAMP:20260424T190813
CREATED:20240111T160852Z
LAST-MODIFIED:20240111T160852Z
UID:6473-1719158400-1719586800@www.ootbay.org
SUMMARY:Elementary Week 2
DESCRIPTION:Registration & Information \nSummer Camp Residential
URL:https://www.ootbay.org/event/elementary-week-2/
END:VEVENT
BEGIN:VEVENT
DTSTART;TZID=UTC:20240623T160000
DTEND;TZID=UTC:20240628T160000
DTSTAMP:20260424T190813
CREATED:20240111T161840Z
LAST-MODIFIED:20240111T161840Z
UID:6481-1719158400-1719590400@www.ootbay.org
SUMMARY:Middle School Week 2
DESCRIPTION:Information & Registration Here \nSummer Camp Residential
URL:https://www.ootbay.org/event/middle-school-week-2/
END:VEVENT
BEGIN:VEVENT
DTSTART;TZID=UTC:20240624T080000
DTEND;TZID=UTC:20240628T170000
DTSTAMP:20260424T190813
CREATED:20240111T154646Z
LAST-MODIFIED:20240111T154646Z
UID:6457-1719216000-1719594000@www.ootbay.org
SUMMARY:Week 2 Day Camp - Medieval Times
DESCRIPTION:Check Out Information & Registration \nSummer Camp Day Camp
URL:https://www.ootbay.org/event/week-2-day-camp-medieval-times/
END:VEVENT
BEGIN:VEVENT
DTSTART;TZID=UTC:20240624T080000
DTEND;TZID=UTC:20240628T170000
DTSTAMP:20260424T190813
CREATED:20240111T164609Z
LAST-MODIFIED:20240111T164609Z
UID:6498-1719216000-1719594000@www.ootbay.org
SUMMARY:L.E.A.P Day Camp Week 2
DESCRIPTION:Information is located on both Day Camp & Residential Pages \nSummer Camp Options
URL:https://www.ootbay.org/event/l-e-a-p-day-camp-week-2/
END:VEVENT
BEGIN:VEVENT
DTSTART;TZID=UTC:20240630T160000
DTEND;TZID=UTC:20240705T150000
DTSTAMP:20260424T190813
CREATED:20240111T162833Z
LAST-MODIFIED:20240111T162833Z
UID:6487-1719763200-1720191600@www.ootbay.org
SUMMARY:High School Busch Gardens Trip Week 3
DESCRIPTION:Information & Registration Here: \nSummer Camp Residential
URL:https://www.ootbay.org/event/high-school-busch-gardens-trip-week-3/
END:VEVENT
END:VCALENDAR