BEGIN:VCALENDAR
VERSION:2.0
PRODID:-//Camp Occohannock on the Bay - ECPv6.15.13//NONSGML v1.0//EN
CALSCALE:GREGORIAN
METHOD:PUBLISH
X-WR-CALNAME:Camp Occohannock on the Bay
X-ORIGINAL-URL:https://www.ootbay.org
X-WR-CALDESC:Events for Camp Occohannock on the Bay
REFRESH-INTERVAL;VALUE=DURATION:PT1H
X-Robots-Tag:noindex
X-PUBLISHED-TTL:PT1H
BEGIN:VTIMEZONE
TZID:UTC
BEGIN:STANDARD
TZOFFSETFROM:+0000
TZOFFSETTO:+0000
TZNAME:UTC
DTSTART:20210101T000000
END:STANDARD
END:VTIMEZONE
BEGIN:VEVENT
DTSTART;TZID=UTC:20230703T073000
DTEND;TZID=UTC:20230707T173000
DTSTAMP:20260423T203218
CREATED:20221213T015646Z
LAST-MODIFIED:20221213T015646Z
UID:2936-1688369400-1688751000@www.ootbay.org
SUMMARY:Day Camp 3
DESCRIPTION:Register Now
URL:https://www.ootbay.org/event/day-camp-3/
END:VEVENT
BEGIN:VEVENT
DTSTART;TZID=UTC:20230626T073000
DTEND;TZID=UTC:20230630T173000
DTSTAMP:20260423T203218
CREATED:20221213T015201Z
LAST-MODIFIED:20221213T015201Z
UID:2932-1687764600-1688146200@www.ootbay.org
SUMMARY:Day Camp 2
DESCRIPTION:Register Now
URL:https://www.ootbay.org/event/day-camp-2/
END:VEVENT
BEGIN:VEVENT
DTSTART;TZID=UTC:20230625T160000
DTEND;TZID=UTC:20230630T160000
DTSTAMP:20260423T203218
CREATED:20221213T010546Z
LAST-MODIFIED:20221213T010546Z
UID:2900-1687708800-1688140800@www.ootbay.org
SUMMARY:Horse Camp
DESCRIPTION:Register Now
URL:https://www.ootbay.org/event/horse-camp-2/
END:VEVENT
BEGIN:VEVENT
DTSTART;TZID=UTC:20230625T160000
DTEND;TZID=UTC:20230630T160000
DTSTAMP:20260423T203218
CREATED:20221213T010329Z
LAST-MODIFIED:20221213T010329Z
UID:2898-1687708800-1688140800@www.ootbay.org
SUMMARY:Middle School Camp II
DESCRIPTION:Register Now
URL:https://www.ootbay.org/event/middle-school-camp-ii/
END:VEVENT
BEGIN:VEVENT
DTSTART;TZID=UTC:20230625T160000
DTEND;TZID=UTC:20230630T160000
DTSTAMP:20260423T203218
CREATED:20221213T010105Z
LAST-MODIFIED:20221213T010105Z
UID:2896-1687708800-1688140800@www.ootbay.org
SUMMARY:Elementary Camp II
DESCRIPTION:Register Now
URL:https://www.ootbay.org/event/elementary-camp-ii/
END:VEVENT
BEGIN:VEVENT
DTSTART;TZID=UTC:20230619T073000
DTEND;TZID=UTC:20230623T173000
DTSTAMP:20260423T203218
CREATED:20221213T014916Z
LAST-MODIFIED:20221213T014916Z
UID:2930-1687159800-1687541400@www.ootbay.org
SUMMARY:Day Camp Week 1
DESCRIPTION:Register Now
URL:https://www.ootbay.org/event/day-camp-week-1/
END:VEVENT
BEGIN:VEVENT
DTSTART;TZID=UTC:20230618T160000
DTEND;TZID=UTC:20230623T160000
DTSTAMP:20260423T203218
CREATED:20221213T005730Z
LAST-MODIFIED:20221213T005844Z
UID:2894-1687104000-1687536000@www.ootbay.org
SUMMARY:Middle School Camp 1
DESCRIPTION:Register Now
URL:https://www.ootbay.org/event/middle-school-camp-1/
END:VEVENT
BEGIN:VEVENT
DTSTART;TZID=UTC:20230618T160000
DTEND;TZID=UTC:20230623T160000
DTSTAMP:20260423T203218
CREATED:20221211T153156Z
LAST-MODIFIED:20221213T005346Z
UID:2804-1687104000-1687536000@www.ootbay.org
SUMMARY:Elementary Camp 1
DESCRIPTION:Register Now
URL:https://www.ootbay.org/event/elementary-camp-1/
END:VEVENT
BEGIN:VEVENT
DTSTART;TZID=UTC:20230607T090000
DTEND;TZID=UTC:20230607T090000
DTSTAMP:20260423T203218
CREATED:20221211T145612Z
LAST-MODIFIED:20221211T145612Z
UID:2792-1686128400-1686128400@www.ootbay.org
SUMMARY:Staff Training 2023
DESCRIPTION:
URL:https://www.ootbay.org/event/staff-training-2023/
END:VEVENT
BEGIN:VEVENT
DTSTART;TZID=UTC:20230324T180000
DTEND;TZID=UTC:20230326T103000
DTSTAMP:20260423T203218
CREATED:20230207T151856Z
LAST-MODIFIED:20230207T151856Z
UID:3057-1679680800-1679826600@www.ootbay.org
SUMMARY:Coastal Virginia Youth Retreat 2023
DESCRIPTION:Link to More Information: https://www.ootbay.org/coastal-virginia-retreat/
URL:https://www.ootbay.org/event/coastal-virginia-youth-retreat-2023/
END:VEVENT
BEGIN:VEVENT
DTSTART;TZID=UTC:20230311T080000
DTEND;TZID=UTC:20230311T150000
DTSTAMP:20260423T203218
CREATED:20220903T141533Z
LAST-MODIFIED:20220903T141625Z
UID:2525-1678521600-1678546800@www.ootbay.org
SUMMARY:Spring Volunteer Work Day
DESCRIPTION:Reschedule Date March 18 \nhttps://www.ootbay.org/spring-work-day-2022/
URL:https://www.ootbay.org/event/spring-volunteer-work-day-2/
END:VEVENT
BEGIN:VEVENT
DTSTART;TZID=UTC:20230225T080000
DTEND;TZID=UTC:20230225T170000
DTSTAMP:20260423T203218
CREATED:20230207T182329Z
LAST-MODIFIED:20230207T182329Z
UID:3077-1677312000-1677344400@www.ootbay.org
SUMMARY:Playground Community Build Weekend
DESCRIPTION:Playground Community Build weekend!  We are moving forward and will need 20 adult volunteers that can use basic hand tools to complete the project!
URL:https://www.ootbay.org/event/playground-community-build-weekend/
END:VEVENT
BEGIN:VEVENT
DTSTART;TZID=UTC:20230121T110000
DTEND;TZID=UTC:20230121T140000
DTSTAMP:20260423T203218
CREATED:20220903T141413Z
LAST-MODIFIED:20220903T141413Z
UID:2523-1674298800-1674309600@www.ootbay.org
SUMMARY:Polar Duck Dip
DESCRIPTION:Reschedule Date 1/28/23
URL:https://www.ootbay.org/event/polar-duck-dip-2/
END:VEVENT
BEGIN:VEVENT
DTSTART;TZID=UTC:20221202T190000
DTEND;TZID=UTC:20221202T210000
DTSTAMP:20260423T203218
CREATED:20220926T204255Z
LAST-MODIFIED:20220926T204255Z
UID:2563-1670007600-1670014800@www.ootbay.org
SUMMARY:Christmas Ladies Paint Night Benefit Camp OOTB
DESCRIPTION:
URL:https://www.ootbay.org/event/christmas-ladies-paint-night-benefit-camp-ootb/
END:VEVENT
BEGIN:VEVENT
DTSTART;VALUE=DATE:20221124
DTEND;VALUE=DATE:20221125
DTSTAMP:20260423T203218
CREATED:20220903T141226Z
LAST-MODIFIED:20220903T141226Z
UID:2521-1669248000-1669334399@www.ootbay.org
SUMMARY:Thanksgiving
DESCRIPTION:
URL:https://www.ootbay.org/event/thanksgiving/
END:VEVENT
BEGIN:VEVENT
DTSTART;VALUE=DATE:20221112
DTEND;VALUE=DATE:20221113
DTSTAMP:20260423T203218
CREATED:20220903T135057Z
LAST-MODIFIED:20220903T135057Z
UID:2519-1668211200-1668297599@www.ootbay.org
SUMMARY:Wedding - Sherry
DESCRIPTION:
URL:https://www.ootbay.org/event/wedding-sherry/
END:VEVENT
BEGIN:VEVENT
DTSTART;TZID=UTC:20221104T170000
DTEND;TZID=UTC:20221106T120000
DTSTAMP:20260423T203218
CREATED:20220903T134954Z
LAST-MODIFIED:20220903T134954Z
UID:2517-1667581200-1667736000@www.ootbay.org
SUMMARY:William & Mary College Retreat
DESCRIPTION:
URL:https://www.ootbay.org/event/william-mary-college-retreat/
END:VEVENT
BEGIN:VEVENT
DTSTART;TZID=UTC:20221025T100000
DTEND;TZID=UTC:20221025T140000
DTSTAMP:20260423T203218
CREATED:20220903T134838Z
LAST-MODIFIED:20220903T134838Z
UID:2514-1666692000-1666706400@www.ootbay.org
SUMMARY:Home School Gathering
DESCRIPTION:
URL:https://www.ootbay.org/event/home-school-gathering/
END:VEVENT
BEGIN:VEVENT
DTSTART;VALUE=DATE:20221020
DTEND;VALUE=DATE:20221024
DTSTAMP:20260423T203218
CREATED:20220903T134747Z
LAST-MODIFIED:20220903T134747Z
UID:2512-1666224000-1666569599@www.ootbay.org
SUMMARY:E.S. Walk to Emmaus (Woman)
DESCRIPTION:
URL:https://www.ootbay.org/event/e-s-walk-to-emmaus-woman/
END:VEVENT
BEGIN:VEVENT
DTSTART;TZID=UTC:20221014T190000
DTEND;TZID=UTC:20221016T110000
DTSTAMP:20260423T203218
CREATED:20220903T134121Z
LAST-MODIFIED:20220903T134641Z
UID:2508-1665774000-1665918000@www.ootbay.org
SUMMARY:Cozy Family Fall Retreat
DESCRIPTION:[vc_row][vc_column][vc_single_image image=”2468″ img_size=”large”][vc_btn title=”Link to More Information” color=”warning” align=”center” link=”url:https%3A%2F%2Fwww.ootbay.org%2Fcozy-camp-family-retreat%2F”][/vc_column][/vc_row]
URL:https://www.ootbay.org/event/cozy-family-fall-retreat/
END:VEVENT
BEGIN:VEVENT
DTSTART;TZID=UTC:20221012T100000
DTEND;TZID=UTC:20221012T110000
DTSTAMP:20260423T203218
CREATED:20220903T133856Z
LAST-MODIFIED:20220903T133856Z
UID:2506-1665568800-1665572400@www.ootbay.org
SUMMARY:Tour - Academy of Life Time Learning
DESCRIPTION:
URL:https://www.ootbay.org/event/tour-academy-of-life-time-learning/
END:VEVENT
BEGIN:VEVENT
DTSTART;TZID=UTC:20221010T170000
DTEND;TZID=UTC:20221010T170000
DTSTAMP:20260423T203218
CREATED:20220903T133804Z
LAST-MODIFIED:20220903T133804Z
UID:2504-1665421200-1665421200@www.ootbay.org
SUMMARY:Wedding - Busic
DESCRIPTION:Worship Site by Waterfront
URL:https://www.ootbay.org/event/wedding-busic/
END:VEVENT
BEGIN:VEVENT
DTSTART;VALUE=DATE:20221006
DTEND;VALUE=DATE:20221010
DTSTAMP:20260423T203218
CREATED:20220903T133636Z
LAST-MODIFIED:20220903T133636Z
UID:2502-1665014400-1665359999@www.ootbay.org
SUMMARY:E.S. Walk to Emmaus (Mens)
DESCRIPTION:
URL:https://www.ootbay.org/event/e-s-walk-to-emmaus-mens/
END:VEVENT
BEGIN:VEVENT
DTSTART;VALUE=DATE:20220930
DTEND;VALUE=DATE:20221003
DTSTAMP:20260423T203218
CREATED:20220903T133504Z
LAST-MODIFIED:20220903T133504Z
UID:2500-1664496000-1664755199@www.ootbay.org
SUMMARY:Holly Grove Christian School
DESCRIPTION:
URL:https://www.ootbay.org/event/holly-grove-christian-school/
END:VEVENT
BEGIN:VEVENT
DTSTART;VALUE=DATE:20220924
DTEND;VALUE=DATE:20220925
DTSTAMP:20260423T203218
CREATED:20220903T133404Z
LAST-MODIFIED:20220903T133404Z
UID:2498-1663977600-1664063999@www.ootbay.org
SUMMARY:Wedding - Vavquez
DESCRIPTION:
URL:https://www.ootbay.org/event/wedding-vavquez/
END:VEVENT
BEGIN:VEVENT
DTSTART;TZID=UTC:20220910T160000
DTEND;TZID=UTC:20220910T220000
DTSTAMP:20260423T203218
CREATED:20220903T133251Z
LAST-MODIFIED:20220903T133251Z
UID:2496-1662825600-1662847200@www.ootbay.org
SUMMARY:Emmaus Eastern Shore Reunion
DESCRIPTION:
URL:https://www.ootbay.org/event/emmaus-eastern-shore-reunion/
END:VEVENT
BEGIN:VEVENT
DTSTART;VALUE=DATE:20220907
DTEND;VALUE=DATE:20220915
DTSTAMP:20260423T203218
CREATED:20220903T133122Z
LAST-MODIFIED:20220903T133142Z
UID:2494-1662508800-1663199999@www.ootbay.org
SUMMARY:Mission team Cabin Rebuild
DESCRIPTION:Mission Team from Harrisonburg\, VA is building an addition on to Cabins 4 & 5
URL:https://www.ootbay.org/event/mission-team-cabin-rebuild/
END:VEVENT
BEGIN:VEVENT
DTSTART;VALUE=DATE:20220801
DTEND;VALUE=DATE:20220806
DTSTAMP:20260423T203218
CREATED:20211103T003302Z
LAST-MODIFIED:20211103T003302Z
UID:1730-1659312000-1659743999@www.ootbay.org
SUMMARY:Day Camp VII - Celebrate! It's a Party!
DESCRIPTION:Day Camp is an exciting new add-on this summer at Camp Occohannock. A great place for kids to spend the entire summer growing in their faith and enjoying recreation on our waterfront property. Each week is a themed experience offering engaging activities\, arts and crafts\, and a great place for children to experience the excitement and wonder of Camp. Your children will be engaged with their peers and counselors who want to make a difference! Each week offers a different experience. \nDay Campers: Monday – Friday\nDrop Off: 8am\nPick Up: 5pm \nRegister Here
URL:https://www.ootbay.org/event/day-camp-vii-celebrate-its-a-party/
END:VEVENT
BEGIN:VEVENT
DTSTART;VALUE=DATE:20220731
DTEND;VALUE=DATE:20220806
DTSTAMP:20260423T203218
CREATED:20211103T011238Z
LAST-MODIFIED:20211103T011238Z
UID:1752-1659225600-1659743999@www.ootbay.org
SUMMARY:Thrill Seekers IV
DESCRIPTION:These Camps are for the older youth looking for something that will teach them new skills\, life lessons\, responsibility\, and teamwork. These camps will get you to new heights\, push your limits\, and even get you out of your comfort zone. Thrill Seekers is a great program that will get your campers thinking about becoming a Counselor in Training in the future with Camp OOTB You won’t be alone and your staff are trained and ready for these adventures of a life time. \nDrop Off Sunday at 6:00pm\nPick Up Friday at 5:00pm \nRegister Here
URL:https://www.ootbay.org/event/thrill-seekers-iv/
END:VEVENT
BEGIN:VEVENT
DTSTART;VALUE=DATE:20220731
DTEND;VALUE=DATE:20220806
DTSTAMP:20260423T203218
CREATED:20211103T005020Z
LAST-MODIFIED:20211103T005020Z
UID:1740-1659225600-1659743999@www.ootbay.org
SUMMARY:Extreme Campers IV
DESCRIPTION:If you’re new to camping or returning for the tenth time this is where your summers will never be the same. This program builds on the foundation that camp is known for. Get involved with more rope course elements like the 30-foot-tall rock wall\, and overnight canoe trip\, staying up later\, more games\, more fun\, and spending more time getting to know your counselors and friends in an all-out camping experience. \nOvernight Campers:\nDrop Off: Sunday 6:00pm\nPick Up: Friday 5:00pm \nRegister Here
URL:https://www.ootbay.org/event/extreme-campers-iv/
END:VEVENT
END:VCALENDAR