BEGIN:VCALENDAR
VERSION:2.0
PRODID:-//Camp Occohannock on the Bay - ECPv6.15.13//NONSGML v1.0//EN
CALSCALE:GREGORIAN
METHOD:PUBLISH
X-WR-CALNAME:Camp Occohannock on the Bay
X-ORIGINAL-URL:https://www.ootbay.org
X-WR-CALDESC:Events for Camp Occohannock on the Bay
REFRESH-INTERVAL;VALUE=DURATION:PT1H
X-Robots-Tag:noindex
X-PUBLISHED-TTL:PT1H
BEGIN:VTIMEZONE
TZID:UTC
BEGIN:STANDARD
TZOFFSETFROM:+0000
TZOFFSETTO:+0000
TZNAME:UTC
DTSTART:20230101T000000
END:STANDARD
END:VTIMEZONE
BEGIN:VEVENT
DTSTART;TZID=UTC:20250713T160000
DTEND;TZID=UTC:20250718T150000
DTSTAMP:20260423T090048
CREATED:20250204T171929Z
LAST-MODIFIED:20250204T172755Z
UID:6872-1752422400-1752850800@www.ootbay.org
SUMMARY:Appalachian Trail Adventure Camp
DESCRIPTION:Are you up for the adventure? We’re hiking a portion of the Appalachian Trail in Western Virginia. We’ll pack our food and lodging needs and have the ultimate adventure! \nIncludes off grounds experience 2 nights 3 days on the AT Trail \nGrades 9-12
URL:https://www.ootbay.org/event/appalachian-trail-adventure-camp/
ATTACH;FMTTYPE=image/png:https://www.ootbay.org/wp-content/uploads/2025/02/2-5.png
END:VEVENT
BEGIN:VEVENT
DTSTART;VALUE=DATE:20250713
DTEND;VALUE=DATE:20250720
DTSTAMP:20260423T090048
CREATED:20250205T145238Z
LAST-MODIFIED:20250205T145238Z
UID:6907-1752364800-1752969599@www.ootbay.org
SUMMARY:Harvest of Hope
DESCRIPTION:Harvest of Hope Eastern Shore Mission Camps \nJuly 13-16 & July 16-19 \nRegister at: https://endhunger.org/get-involved/overnight-camps/
URL:https://www.ootbay.org/event/harvest-of-hope-4/
ATTACH;FMTTYPE=image/jpeg:https://www.ootbay.org/wp-content/uploads/2025/02/460391231_836143358721167_2201938881377030785_n.jpg
END:VEVENT
BEGIN:VEVENT
DTSTART;TZID=UTC:20250707T074500
DTEND;TZID=UTC:20250711T170000
DTSTAMP:20260423T090048
CREATED:20250204T174049Z
LAST-MODIFIED:20250204T174049Z
UID:6885-1751874300-1752253200@www.ootbay.org
SUMMARY:Week 4: Day Camp - Houdini Week
DESCRIPTION:Includes specialized leveled programming groups that include ages 4-9 years of age \nTheme: Houdini \nLet’s explore illusions\, science and more.  We’ll make up our own tricks and maybe even put on a show! \nDiscount for 6 or more weeks
URL:https://www.ootbay.org/event/week-4-day-camp-houdini-week/
ATTACH;FMTTYPE=image/png:https://www.ootbay.org/wp-content/uploads/2025/02/2-5.png
END:VEVENT
BEGIN:VEVENT
DTSTART;TZID=UTC:20250706T160000
DTEND;TZID=UTC:20250711T140000
DTSTAMP:20260423T090048
CREATED:20250204T162041Z
LAST-MODIFIED:20250204T162041Z
UID:6866-1751817600-1752242400@www.ootbay.org
SUMMARY:Week 4: Middle School Camp
DESCRIPTION:Middle School: A week long adventure of climbing trees\, swimming\, playing\, making friends\, growing in faith and more.
URL:https://www.ootbay.org/event/week-4-middle-school-camp/
ATTACH;FMTTYPE=image/png:https://www.ootbay.org/wp-content/uploads/2025/02/2-5.png
END:VEVENT
BEGIN:VEVENT
DTSTART;TZID=UTC:20250706T160000
DTEND;TZID=UTC:20250711T140000
DTSTAMP:20260423T090048
CREATED:20250204T161041Z
LAST-MODIFIED:20250204T161318Z
UID:6858-1751817600-1752242400@www.ootbay.org
SUMMARY:Week 4: Elementary Camp
DESCRIPTION:Elementary Camp: A week long adventure of climbing trees\, swimming\, playing\, making friends\, growing in faith and more.
URL:https://www.ootbay.org/event/week-4-elementary-camp/
ATTACH;FMTTYPE=image/png:https://www.ootbay.org/wp-content/uploads/2025/02/2-5.png
END:VEVENT
BEGIN:VEVENT
DTSTART;TZID=UTC:20250630T074500
DTEND;TZID=UTC:20250704T170000
DTSTAMP:20260423T090048
CREATED:20250204T173827Z
LAST-MODIFIED:20250204T173849Z
UID:6882-1751269500-1751648400@www.ootbay.org
SUMMARY:Week 3: Day Camp -Chitty Chitty \,Bang Bang
DESCRIPTION:Includes specialized leveled programming groups that include ages 4-9 years of age \nTheme: Chitty Chitty\, Bang Bang \nLittle Inventors. Famous Inventors and Inventions. Let’s learn new things and maybe we can create our own new things! \nDiscount for 6 or more weeks
URL:https://www.ootbay.org/event/chitty-chitty-bang-bang/
ATTACH;FMTTYPE=image/png:https://www.ootbay.org/wp-content/uploads/2025/02/2-5.png
END:VEVENT
BEGIN:VEVENT
DTSTART;TZID=UTC:20250629T160000
DTEND;TZID=UTC:20250704T140000
DTSTAMP:20260423T090048
CREATED:20250204T171641Z
LAST-MODIFIED:20250204T171641Z
UID:6870-1751212800-1751637600@www.ootbay.org
SUMMARY:High School Camp
DESCRIPTION:Join your peers for a fun week of exploring camp\, growing in faith\, trying new things and more.  We’re going on a Field Trip off camp for a Beach Day with fun activities!
URL:https://www.ootbay.org/event/high-school-camp/
ATTACH;FMTTYPE=image/png:https://www.ootbay.org/wp-content/uploads/2025/02/2-5.png
END:VEVENT
BEGIN:VEVENT
DTSTART;TZID=UTC:20250623T074500
DTEND;TZID=UTC:20250627T170000
DTSTAMP:20260423T090048
CREATED:20250204T173625Z
LAST-MODIFIED:20250204T173646Z
UID:6880-1750664700-1751043600@www.ootbay.org
SUMMARY:Day Camp Week 2: Mission Impossible
DESCRIPTION:Includes specialized leveled programming groups that include ages 4-9 years of age \nTheme: Mission Impossible \nWe can Solve Problems. We’ll explore our detective skills to solve mysteries.  Calling our Secret Agents for a fun week! \nDiscount for 6 or more weeks
URL:https://www.ootbay.org/event/day-camp-week-2-mission-impossible/
ATTACH;FMTTYPE=image/png:https://www.ootbay.org/wp-content/uploads/2025/02/2-5.png
END:VEVENT
BEGIN:VEVENT
DTSTART;TZID=UTC:20250622T160000
DTEND;TZID=UTC:20250627T140000
DTSTAMP:20260423T090048
CREATED:20250204T161848Z
LAST-MODIFIED:20250204T175243Z
UID:6864-1750608000-1751032800@www.ootbay.org
SUMMARY:Week 2: Middle School Camp
DESCRIPTION:Middle School: A week long adventure of climbing trees\, swimming\, playing\, making friends\, growing in faith and more.
URL:https://www.ootbay.org/event/week-2-middle-school-camp/
ATTACH;FMTTYPE=image/png:https://www.ootbay.org/wp-content/uploads/2025/02/2-5.png
END:VEVENT
BEGIN:VEVENT
DTSTART;TZID=UTC:20250622T160000
DTEND;TZID=UTC:20250627T140000
DTSTAMP:20260423T090048
CREATED:20250204T160834Z
LAST-MODIFIED:20250205T153438Z
UID:6855-1750608000-1751032800@www.ootbay.org
SUMMARY:Week 2: Elementary Camp
DESCRIPTION:Elementary Camp: A week long adventure of climbing trees\, swimming\, playing\, making friends\, growing in faith and more.
URL:https://www.ootbay.org/event/week-2-elementary/
ATTACH;FMTTYPE=image/png:https://www.ootbay.org/wp-content/uploads/2025/02/2-5.png
END:VEVENT
BEGIN:VEVENT
DTSTART;TZID=UTC:20250616T074500
DTEND;TZID=UTC:20250620T170000
DTSTAMP:20260423T090048
CREATED:20250204T173300Z
LAST-MODIFIED:20250204T173300Z
UID:6878-1750059900-1750438800@www.ootbay.org
SUMMARY:Week 1: Day Camp - Greatest Showman
DESCRIPTION:Includes specialized leveled programming groups that include ages 4-9 years of age \nTheme: The Greatest Showman \nIt’s Okay TO Be Different!  This brings the excitement of the circus to camp.  We’ll try some circus skills and participate in games and activities.  \nDiscount for 6 or more weeks
URL:https://www.ootbay.org/event/week-1-day-camp-greatest-showman/
ATTACH;FMTTYPE=image/png:https://www.ootbay.org/wp-content/uploads/2025/02/2-5.png
END:VEVENT
BEGIN:VEVENT
DTSTART;TZID=UTC:20250615T160000
DTEND;TZID=UTC:20250621T140000
DTSTAMP:20260423T090048
CREATED:20250204T160349Z
LAST-MODIFIED:20250204T160516Z
UID:6851-1750003200-1750514400@www.ootbay.org
SUMMARY:Week 1: Elementary Camp
DESCRIPTION:Elementary Camp: A week long adventure of climbing trees\, swimming\, playing\, making friends\, growing in faith and more.
URL:https://www.ootbay.org/event/elementary-camp/
ATTACH;FMTTYPE=image/png:https://www.ootbay.org/wp-content/uploads/2025/02/2-5.png
END:VEVENT
BEGIN:VEVENT
DTSTART;TZID=UTC:20250615T160000
DTEND;TZID=UTC:20250620T140000
DTSTAMP:20260423T090048
CREATED:20250204T161602Z
LAST-MODIFIED:20250204T161602Z
UID:6862-1750003200-1750428000@www.ootbay.org
SUMMARY:Week 1: Middle School Camp
DESCRIPTION:Middle School: A week long adventure of climbing trees\, swimming\, playing\, making friends\, growing in faith and more.
URL:https://www.ootbay.org/event/week-1-middle-school-camp/
ATTACH;FMTTYPE=image/png:https://www.ootbay.org/wp-content/uploads/2025/02/2-5.png
END:VEVENT
BEGIN:VEVENT
DTSTART;TZID=UTC:20250519T093000
DTEND;TZID=UTC:20250523T140000
DTSTAMP:20260423T090048
CREATED:20250204T175708Z
LAST-MODIFIED:20250204T175728Z
UID:6896-1747647000-1748008800@www.ootbay.org
SUMMARY:Special Needs Camp - Living on the Wild Side
DESCRIPTION:
URL:https://www.ootbay.org/event/special-needs-camp/
ATTACH;FMTTYPE=image/jpeg:https://www.ootbay.org/wp-content/uploads/2025/02/2.jpeg
END:VEVENT
BEGIN:VEVENT
DTSTART;VALUE=DATE:20250424
DTEND;VALUE=DATE:20250428
DTSTAMP:20260423T090048
CREATED:20250205T150729Z
LAST-MODIFIED:20250205T150940Z
UID:6912-1745452800-1745798399@www.ootbay.org
SUMMARY:ES Woman's Emmaus
DESCRIPTION:
URL:https://www.ootbay.org/event/es-womans-emmaus/
ATTACH;FMTTYPE=image/jpeg:https://www.ootbay.org/wp-content/uploads/2022/09/IMG_4245.jpg
END:VEVENT
BEGIN:VEVENT
DTSTART;VALUE=DATE:20250418
DTEND;VALUE=DATE:20250419
DTSTAMP:20260423T090048
CREATED:20250205T153316Z
LAST-MODIFIED:20250205T153316Z
UID:6914-1744934400-1745020799@www.ootbay.org
SUMMARY:Home School Prom
DESCRIPTION:
URL:https://www.ootbay.org/event/home-school-prom/
ATTACH;FMTTYPE=image/jpeg:https://www.ootbay.org/wp-content/uploads/2025/02/IMG_2444.jpg
END:VEVENT
BEGIN:VEVENT
DTSTART;VALUE=DATE:20250410
DTEND;VALUE=DATE:20250414
DTSTAMP:20260423T090048
CREATED:20250205T150557Z
LAST-MODIFIED:20250205T150557Z
UID:6910-1744243200-1744588799@www.ootbay.org
SUMMARY:Eastern Shore Emmaus Weekend
DESCRIPTION:
URL:https://www.ootbay.org/event/eastern-shore-emmaus-weekend/
ATTACH;FMTTYPE=image/jpeg:https://www.ootbay.org/wp-content/uploads/2022/09/IMG_4245.jpg
END:VEVENT
BEGIN:VEVENT
DTSTART;TZID=UTC:20250321T190000
DTEND;TZID=UTC:20250323T103000
DTSTAMP:20260423T090048
CREATED:20250204T180535Z
LAST-MODIFIED:20250204T180643Z
UID:6902-1742583600-1742725800@www.ootbay.org
SUMMARY:Coastal Virginia District Youth Retreat - Lead Us Not Into Temptation - High School
DESCRIPTION:Information and Registration: https://www.ootbay.org/coastal-virginia-retreat/
URL:https://www.ootbay.org/event/coastal-virginia-district-youth-retreat-lead-us-not-into-temptation/
ATTACH;FMTTYPE=image/png:https://www.ootbay.org/wp-content/uploads/2024/11/Lead-Us-Not-Into-Temptation-2025-Youth-Retreat-Flyer-1.png
END:VEVENT
BEGIN:VEVENT
DTSTART;TZID=UTC:20250308T080000
DTEND;TZID=UTC:20250308T150000
DTSTAMP:20260423T090048
CREATED:20250204T180241Z
LAST-MODIFIED:20250204T180241Z
UID:6900-1741420800-1741446000@www.ootbay.org
SUMMARY:Volunteer Work Day
DESCRIPTION:Each year the camp has a fall (September) and spring (April) work day.  It’s amazing what is accomplish in a single day.  The next work day is March 08\, 2025 (Reschedule date March 15).  Workers arrive early around 8:00am and serve throughout the day.  We serve lunch for all our volunteers.  It’s a wonderful time for community and to connect with our local camp families. \nThere is no age restriction on our volunteer work day.  There are a variety of opportunities including cleaning and helping to set up for our summer camp.  We also have opportunities for volunteers that come with special skills.  We provide the materials and resources\, along with helpful guidance and direction in completing jobs. \nMore information & Registration: https://www.ootbay.org/volunteers/ \n 
URL:https://www.ootbay.org/event/volunteer-work-day/
ATTACH;FMTTYPE=image/jpeg:https://www.ootbay.org/wp-content/uploads/2022/09/IMG_4244.jpg
END:VEVENT
BEGIN:VEVENT
DTSTART;TZID=UTC:20240927T190000
DTEND;TZID=UTC:20240929T103000
DTSTAMP:20260423T090048
CREATED:20240111T171412Z
LAST-MODIFIED:20240111T171412Z
UID:6517-1727463600-1727605800@www.ootbay.org
SUMMARY:Coastal VA Middle School Retreat
DESCRIPTION:Information & Registration Here \nCoastal VA District Retreat
URL:https://www.ootbay.org/event/coastal-va-middle-school-retreat/
END:VEVENT
BEGIN:VEVENT
DTSTART;TZID=UTC:20240805T080000
DTEND;TZID=UTC:20240809T170000
DTSTAMP:20260423T090048
CREATED:20240111T165837Z
LAST-MODIFIED:20240111T165837Z
UID:6511-1722844800-1723222800@www.ootbay.org
SUMMARY:L.E.A.P Day Camp Week 8
DESCRIPTION:Information is located on both Day and Residential Pages \nSummer Camp Options
URL:https://www.ootbay.org/event/l-e-a-p-day-camp-week-8/
END:VEVENT
BEGIN:VEVENT
DTSTART;TZID=UTC:20240805T080000
DTEND;TZID=UTC:20240809T170000
DTSTAMP:20260423T090048
CREATED:20240111T155807Z
LAST-MODIFIED:20240111T155807Z
UID:6469-1722844800-1723222800@www.ootbay.org
SUMMARY:Week 8 - Day Camp - Willy Wonka
DESCRIPTION:Information & Registration Here: \nSummer Camp Day Camp
URL:https://www.ootbay.org/event/week-8-day-camp-willy-wonka/
END:VEVENT
BEGIN:VEVENT
DTSTART;TZID=UTC:20240804T160000
DTEND;TZID=UTC:20240809T150000
DTSTAMP:20260423T090048
CREATED:20240111T163558Z
LAST-MODIFIED:20240111T163558Z
UID:6493-1722787200-1723215600@www.ootbay.org
SUMMARY:Girls Only
DESCRIPTION:Information & Register Here \nSummer Camp Residential
URL:https://www.ootbay.org/event/girls-only/
END:VEVENT
BEGIN:VEVENT
DTSTART;TZID=UTC:20240729T080000
DTEND;TZID=UTC:20240802T170000
DTSTAMP:20260423T090048
CREATED:20240111T165707Z
LAST-MODIFIED:20240111T165707Z
UID:6509-1722240000-1722618000@www.ootbay.org
SUMMARY:L.E.A.P. Day Camp Week 7
DESCRIPTION:Information is located on Day and Residential Pages \nSummer Camp Options
URL:https://www.ootbay.org/event/l-e-a-p-day-camp-week-7/
END:VEVENT
BEGIN:VEVENT
DTSTART;TZID=UTC:20240729T080000
DTEND;TZID=UTC:20240802T170000
DTSTAMP:20260423T090048
CREATED:20240111T155615Z
LAST-MODIFIED:20240111T155615Z
UID:6467-1722240000-1722618000@www.ootbay.org
SUMMARY:Week 7 Day Camp -  Sports Mania
DESCRIPTION:Information & Register Here: \nSummer Camp Day Camp
URL:https://www.ootbay.org/event/week-7-day-camp-sports-mania/
END:VEVENT
BEGIN:VEVENT
DTSTART;TZID=UTC:20240728T030000
DTEND;TZID=UTC:20240802T150000
DTSTAMP:20260423T090048
CREATED:20240111T163323Z
LAST-MODIFIED:20240111T163323Z
UID:6491-1722135600-1722610800@www.ootbay.org
SUMMARY:Sports Camp
DESCRIPTION:Information & Registration Here: \nSummer Camp Residential
URL:https://www.ootbay.org/event/sports-camp-2/
END:VEVENT
BEGIN:VEVENT
DTSTART;TZID=UTC:20240722T080000
DTEND;TZID=UTC:20240726T170000
DTSTAMP:20260423T090048
CREATED:20240111T165519Z
LAST-MODIFIED:20240111T165519Z
UID:6507-1721635200-1722013200@www.ootbay.org
SUMMARY:L.E.A.P Day Camp Week 6
DESCRIPTION:Information is on both Day and Residential Pages \nSummer Camp Options
URL:https://www.ootbay.org/event/l-e-a-p-day-camp-week-6/
END:VEVENT
BEGIN:VEVENT
DTSTART;TZID=UTC:20240722T080000
DTEND;TZID=UTC:20240726T170000
DTSTAMP:20260423T090048
CREATED:20240111T155438Z
LAST-MODIFIED:20240111T155438Z
UID:6465-1721635200-1722013200@www.ootbay.org
SUMMARY:Day Camp - Week 6 Beach Bash
DESCRIPTION:Information & Register Here: \nSummer Camp Day Camp \n \n 
URL:https://www.ootbay.org/event/day-camp-week-6-beach-bash/
END:VEVENT
BEGIN:VEVENT
DTSTART;TZID=UTC:20240721T160000
DTEND;TZID=UTC:20240726T160000
DTSTAMP:20260423T090048
CREATED:20240111T161501Z
LAST-MODIFIED:20240111T161501Z
UID:6477-1721577600-1722009600@www.ootbay.org
SUMMARY:Elementary Camp Week 6
DESCRIPTION:Information & Registration Here: \nSummer Camp Residential
URL:https://www.ootbay.org/event/elementary-camp-week-6/
END:VEVENT
BEGIN:VEVENT
DTSTART;TZID=UTC:20240721T160000
DTEND;TZID=UTC:20240726T150000
DTSTAMP:20260423T090048
CREATED:20240111T162312Z
LAST-MODIFIED:20240111T162312Z
UID:6485-1721577600-1722006000@www.ootbay.org
SUMMARY:Middles School Week 6
DESCRIPTION:Information & Registration Here \nSummer Camp Residential
URL:https://www.ootbay.org/event/middles-school-week-6/
END:VEVENT
END:VCALENDAR