BEGIN:VCALENDAR
VERSION:2.0
PRODID:-//Camp Occohannock on the Bay - ECPv6.15.13//NONSGML v1.0//EN
CALSCALE:GREGORIAN
METHOD:PUBLISH
X-WR-CALNAME:Camp Occohannock on the Bay
X-ORIGINAL-URL:https://www.ootbay.org
X-WR-CALDESC:Events for Camp Occohannock on the Bay
REFRESH-INTERVAL;VALUE=DURATION:PT1H
X-Robots-Tag:noindex
X-PUBLISHED-TTL:PT1H
BEGIN:VTIMEZONE
TZID:UTC
BEGIN:STANDARD
TZOFFSETFROM:+0000
TZOFFSETTO:+0000
TZNAME:UTC
DTSTART:20200101T000000
END:STANDARD
END:VTIMEZONE
BEGIN:VEVENT
DTSTART;TZID=UTC:20220702T160000
DTEND;TZID=UTC:20220704T160000
DTSTAMP:20260424T142951
CREATED:20221213T010815Z
LAST-MODIFIED:20221213T011006Z
UID:2902-1656777600-1656950400@www.ootbay.org
SUMMARY:Family Camp
DESCRIPTION:Register Now
URL:https://www.ootbay.org/event/family-camp/
END:VEVENT
BEGIN:VEVENT
DTSTART;TZID=UTC:20220702T160000
DTEND;TZID=UTC:20220704T150000
DTSTAMP:20260424T142951
CREATED:20221213T021251Z
LAST-MODIFIED:20221213T021251Z
UID:2948-1656777600-1656946800@www.ootbay.org
SUMMARY:Family Camp
DESCRIPTION:Register Now
URL:https://www.ootbay.org/event/family-camp-2/
END:VEVENT
BEGIN:VEVENT
DTSTART;VALUE=DATE:20220627
DTEND;VALUE=DATE:20220702
DTSTAMP:20260424T142951
CREATED:20211103T002308Z
LAST-MODIFIED:20211103T002308Z
UID:1719-1656288000-1656719999@www.ootbay.org
SUMMARY:Day Camp II - Sports
DESCRIPTION:Day Camp is an exciting new add-on this summer at Camp Occohannock. A great place for kids to spend the entire summer growing in their faith and enjoying recreation on our waterfront property. Each week is a themed experience offering engaging activities\, arts and crafts\, and a great place for children to experience the excitement and wonder of Camp. Your children will be engaged with their peers and counselors who want to make a difference! Each week offers a different experience. \nDay Campers: Monday – Friday\nDrop Off: 8am\nPick Up: 5pm \nRegister Here
URL:https://www.ootbay.org/event/day-camp-ii-sports/
END:VEVENT
BEGIN:VEVENT
DTSTART;VALUE=DATE:20220626
DTEND;VALUE=DATE:20220702
DTSTAMP:20260424T142951
CREATED:20211103T010915Z
LAST-MODIFIED:20211103T010915Z
UID:1748-1656201600-1656719999@www.ootbay.org
SUMMARY:Thrill Seekers II
DESCRIPTION:These Camps are for the older youth looking for something that will teach them new skills\, life lessons\, responsibility\, and teamwork. These camps will get you to new heights\, push your limits\, and even get you out of your comfort zone. Thrill Seekers is a great program that will get your campers thinking about becoming a Counselor in Training in the future with Camp OOTB You won’t be alone and your staff are trained and ready for these adventures of a life time. \nDrop Off Sunday at 6:00pm\nPick Up Friday at 5:00pm \nRegister Here
URL:https://www.ootbay.org/event/thrill-seekers-ii/
END:VEVENT
BEGIN:VEVENT
DTSTART;VALUE=DATE:20220626
DTEND;VALUE=DATE:20220702
DTSTAMP:20260424T142951
CREATED:20211103T005823Z
LAST-MODIFIED:20220527T131325Z
UID:1742-1656201600-1656719999@www.ootbay.org
SUMMARY:Horse Camp
DESCRIPTION:Camp Occohannock has partnered with Kerkaken Acres for Horse. Each camper will leave from Camp Occohannock for this trip and travel camp to Bloxom\, VA and learn not just about riding horses\, but also how to provide care for them from experienced horse owners. It’s an entire experience you won’t want to miss and great for beginners and intermediate riders who are interested in horses and animal care. In addition\, to this experience campers will have the opportunity to enjoy all the Bay has to offer during the afternoons\, as well as\, having those special worship experiences each night. \nLimit 10 Participants / New Added Older Session \nDrop Off Sunday at 6:00pm\nPick Up Friday at 5:00pm \nRegister Here
URL:https://www.ootbay.org/event/horse-camp/
END:VEVENT
BEGIN:VEVENT
DTSTART;VALUE=DATE:20220626
DTEND;VALUE=DATE:20220702
DTSTAMP:20260424T142951
CREATED:20211103T004429Z
LAST-MODIFIED:20211103T004429Z
UID:1734-1656201600-1656719999@www.ootbay.org
SUMMARY:Extreme Campers II
DESCRIPTION:If you’re new to camping or returning for the tenth time this is where your summers will never be the same. This program builds on the foundation that camp is known for. Get involved with more rope course elements like the 30-foot-tall rock wall\, and overnight canoe trip\, staying up later\, more games\, more fun\, and spending more time getting to know your counselors and friends in an all-out camping experience. \nOvernight Campers:\nDrop Off: Sunday 6:00pm\nPick Up: Friday 5:00pm \nRegister Here
URL:https://www.ootbay.org/event/extreme-campers-ii/
END:VEVENT
BEGIN:VEVENT
DTSTART;VALUE=DATE:20220626
DTEND;VALUE=DATE:20220702
DTSTAMP:20260424T142951
CREATED:20211103T000411Z
LAST-MODIFIED:20211103T000411Z
UID:1708-1656201600-1656719999@www.ootbay.org
SUMMARY:Adventure Seekers II
DESCRIPTION:This program is the next level of adventure for those that are ready to dive right into a weeklong\, non-stop\, and exciting camp experience. This is where campers will begin to develop leadership skills\, responsibilities for their actions\, become a team player\, and to care for the safety and wellbeing of the unit. Camp will introduce outdoor camping (Wednesday Night) where campers will learn to build their campfires\, cook their food\, set up tents and bond with their friends around a campfire and much\, much more.  This Camp can also be a Day Camp Only for campers not ready to do a full week over night. \nOvernight Campers:\nDrop Off: Sunday 6:00pm\nPick Up: Friday 5:00pm \nRegister Here
URL:https://www.ootbay.org/event/adventure-seekers-ii/
END:VEVENT
BEGIN:VEVENT
DTSTART;VALUE=DATE:20220626
DTEND;VALUE=DATE:20220629
DTSTAMP:20260424T142951
CREATED:20211103T013158Z
LAST-MODIFIED:20211103T013158Z
UID:1763-1656201600-1656460799@www.ootbay.org
SUMMARY:Young Explorers II
DESCRIPTION:This program is for children that are ready to step out in a small adventure of three days and two overnight stays at camp. Children at this age are exploring the world around them at full force with all their senses overwhelmed. What better place and time to introduce them to nature and God’s creation. This program is to strengthen the confidence in each camper in their decision to be away from home overnight for a few days. \nDrop Off Sunday at 6:00pm\nPick Up Friday at 5:00pm \nRegister Here
URL:https://www.ootbay.org/event/young-explorers-ii/
END:VEVENT
BEGIN:VEVENT
DTSTART;VALUE=DATE:20220620
DTEND;VALUE=DATE:20220625
DTSTAMP:20260424T142951
CREATED:20211103T002033Z
LAST-MODIFIED:20211103T002033Z
UID:1717-1655683200-1656115199@www.ootbay.org
SUMMARY:Day Camp I - Explore Nature
DESCRIPTION:Day Camp is an exciting new add-on this summer at Camp Occohannock. A great place for kids to spend the entire summer growing in their faith and enjoying recreation on our waterfront property. Each week is a themed experience offering engaging activities\, arts and crafts\, and a great place for children to experience the excitement and wonder of Camp. Your children will be engaged with their peers and counselors who want to make a difference! Each week offers a different experience. \nDay Campers: Monday – Friday\nDrop Off: 8am\nPick Up: 5pm \nRegister Here
URL:https://www.ootbay.org/event/day-camp-i-explore-nature/
END:VEVENT
BEGIN:VEVENT
DTSTART;VALUE=DATE:20220619
DTEND;VALUE=DATE:20220625
DTSTAMP:20260424T142951
CREATED:20211103T010746Z
LAST-MODIFIED:20211103T010746Z
UID:1744-1655596800-1656115199@www.ootbay.org
SUMMARY:Thrill Seekers I
DESCRIPTION:These Camps are for the older youth looking for something that will teach them new skills\, life lessons\, responsibility\, and teamwork. These camps will get you to new heights\, push your limits\, and even get you out of your comfort zone. Thrill Seekers is a great program that will get your campers thinking about becoming a Counselor in Training in the future with Camp OOTB You won’t be alone and your staff are trained and ready for these adventures of a life time. \nDrop Off Sunday at 6:00pm\nPick Up Friday at 5:00pm \nRegister Here
URL:https://www.ootbay.org/event/thrill-seekers-i/
END:VEVENT
BEGIN:VEVENT
DTSTART;VALUE=DATE:20220619
DTEND;VALUE=DATE:20220625
DTSTAMP:20260424T142951
CREATED:20211103T003925Z
LAST-MODIFIED:20211103T003925Z
UID:1732-1655596800-1656115199@www.ootbay.org
SUMMARY:Extreme Campers I
DESCRIPTION:If you’re new to camping or returning for the tenth time this is where your summers will never be the same. This program builds on the foundation that camp is known for. Get involved with more rope course elements like the 30-foot-tall rock wall\, and overnight canoe trip\, staying up later\, more games\, more fun\, and spending more time getting to know your counselors and friends in an all-out camping experience. \nOvernight Campers:\nDrop Off: Sunday 6:00pm\nPick Up: Friday 5:00pm \nRegister Here
URL:https://www.ootbay.org/event/extreme-campers-i/
END:VEVENT
BEGIN:VEVENT
DTSTART;VALUE=DATE:20220619
DTEND;VALUE=DATE:20220625
DTSTAMP:20260424T142951
CREATED:20211103T000208Z
LAST-MODIFIED:20211103T000208Z
UID:1706-1655596800-1656115199@www.ootbay.org
SUMMARY:Adventure Seekers 1
DESCRIPTION:This program is the next level of adventure for those that are ready to dive right into a weeklong\, non-stop\, and exciting camp experience. This is where campers will begin to develop leadership skills\, responsibilities for their actions\, become a team player\, and to care for the safety and wellbeing of the unit. Camp will introduce outdoor camping (Wednesday Night) where campers will learn to build their campfires\, cook their food\, set up tents and bond with their friends around a campfire and much\, much more.  This Camp can also be a Day Camp Only for campers not ready to do a full week over night. \nOvernight Campers:\nDrop Off: Sunday 6:00pm\nPick Up: Friday 5:00pm \nRegister Here
URL:https://www.ootbay.org/event/adventure-seekers-1/
END:VEVENT
BEGIN:VEVENT
DTSTART;VALUE=DATE:20220619
DTEND;VALUE=DATE:20220622
DTSTAMP:20260424T142951
CREATED:20211103T013016Z
LAST-MODIFIED:20211103T013016Z
UID:1759-1655596800-1655855999@www.ootbay.org
SUMMARY:Young Explorers I
DESCRIPTION:This program is for children that are ready to step out in a small adventure of three days and two overnight stays at camp. Children at this age are exploring the world around them at full force with all their senses overwhelmed. What better place and time to introduce them to nature and God’s creation. This program is to strengthen the confidence in each camper in their decision to be away from home overnight for a few days. \nDrop Off Sunday at 6:00pm\nPick Up Friday at 5:00pm \nRegister Here
URL:https://www.ootbay.org/event/young-explorers-i/
END:VEVENT
BEGIN:VEVENT
DTSTART;TZID=UTC:20220617T160000
DTEND;TZID=UTC:20220618T160000
DTSTAMP:20260424T142951
CREATED:20211122T161323Z
LAST-MODIFIED:20211122T161323Z
UID:1858-1655481600-1655568000@www.ootbay.org
SUMMARY:Guardian Angel Camp
DESCRIPTION:Welcome to Camp! Children (4-7 years) will celebrate their first Christian camping experience with their favorite Guardian Angel (Mom\, Dad\, Grandparent\, Aunt\, Uncle\, or other). Come experience heartwarming moments and make long lasting memories at our Guardian Angel Camp. Enjoy s’mores under the stars\, camp activities\, worship sing-a-longs\, and cabin time. Please register each person attending separately \nChild (4-7 years) & Adult \nRegister Here
URL:https://www.ootbay.org/event/guardian-angel-camp/
END:VEVENT
BEGIN:VEVENT
DTSTART;TZID=UTC:20220421T180000
DTEND;TZID=UTC:20220424T180000
DTSTAMP:20260424T142951
CREATED:20211122T155210Z
LAST-MODIFIED:20211122T155210Z
UID:1856-1650564000-1650823200@www.ootbay.org
SUMMARY:Walk to Emmaus (Women's Weekend)
DESCRIPTION:
URL:https://www.ootbay.org/event/walk-to-emmaus-womens-weekend/
END:VEVENT
BEGIN:VEVENT
DTSTART;TZID=UTC:20220407T180000
DTEND;TZID=UTC:20220410T120000
DTSTAMP:20260424T142951
CREATED:20211005T202548Z
LAST-MODIFIED:20211005T202612Z
UID:1250-1649354400-1649592000@www.ootbay.org
SUMMARY:Walk to Emmaus (Men)
DESCRIPTION:
URL:https://www.ootbay.org/event/walk-to-emmaus/
END:VEVENT
BEGIN:VEVENT
DTSTART;TZID=UTC:20220402T080000
DTEND;TZID=UTC:20220402T160000
DTSTAMP:20260424T142951
CREATED:20211016T005636Z
LAST-MODIFIED:20211016T005954Z
UID:1520-1648886400-1648915200@www.ootbay.org
SUMMARY:Spring Volunteer Work Day
DESCRIPTION:For more information check out: https://www.ootbay.org/volunteers/
URL:https://www.ootbay.org/event/spring-volunteer-work-day/
ORGANIZER;CN="Joel Coleman":MAILTO:campootb@gmail.com
END:VEVENT
BEGIN:VEVENT
DTSTART;VALUE=DATE:20220325
DTEND;VALUE=DATE:20220328
DTSTAMP:20260424T142951
CREATED:20211005T203019Z
LAST-MODIFIED:20211016T010320Z
UID:1255-1648166400-1648425599@www.ootbay.org
SUMMARY:Eastern Shore Youth Retreat
DESCRIPTION:For more information: https://www.ootbay.org/e-s-youth-retreat/
URL:https://www.ootbay.org/event/eastern-shore-youth-retreat/
END:VEVENT
BEGIN:VEVENT
DTSTART;TZID=UTC:20220304T080000
DTEND;TZID=UTC:20220304T170000
DTSTAMP:20260424T142951
CREATED:20220106T190902Z
LAST-MODIFIED:20220106T190902Z
UID:1967-1646380800-1646413200@www.ootbay.org
SUMMARY:Life Line Screening
DESCRIPTION:Life Line Screening\, recognized with an A+ rating by Better Business Bureau\, offers a 5-test package to thoroughly check you for risk of stroke\, cardiovascular disease and other chronic conditions.  The combination of these tests helps detect problems–before you have symptoms and while you and your doctor can still take action…so you can keep dong the things you love. \nFlyer 3-4-22 NES Occohannock on the Bay
URL:https://www.ootbay.org/event/life-line-screening-2/
END:VEVENT
BEGIN:VEVENT
DTSTART;TZID=UTC:20220122T110000
DTEND;TZID=UTC:20220122T133000
DTSTAMP:20260424T142951
CREATED:20211016T010713Z
LAST-MODIFIED:20211016T010713Z
UID:1534-1642849200-1642858200@www.ootbay.org
SUMMARY:Polar Duck Dip
DESCRIPTION:For more information: https://www.ootbay.org/polar-duck-dip-camp-occohannock-on-the-bay/
URL:https://www.ootbay.org/event/polar-duck-dip/
END:VEVENT
BEGIN:VEVENT
DTSTART;TZID=UTC:20211115T080000
DTEND;TZID=UTC:20211115T150000
DTSTAMP:20260424T142951
CREATED:20211108T013157Z
LAST-MODIFIED:20211108T013157Z
UID:1776-1636963200-1636988400@www.ootbay.org
SUMMARY:Life Line Screening
DESCRIPTION:
URL:https://www.ootbay.org/event/life-line-screening/
END:VEVENT
BEGIN:VEVENT
DTSTART;VALUE=DATE:20211112
DTEND;VALUE=DATE:20211115
DTSTAMP:20260424T142951
CREATED:20211005T202315Z
LAST-MODIFIED:20211005T202315Z
UID:1248-1636675200-1636934399@www.ootbay.org
SUMMARY:Emmaus Men (H)
DESCRIPTION:
URL:https://www.ootbay.org/event/emmaus-men-h/
END:VEVENT
BEGIN:VEVENT
DTSTART;VALUE=DATE:20211105
DTEND;VALUE=DATE:20211108
DTSTAMP:20260424T142951
CREATED:20211005T202056Z
LAST-MODIFIED:20211005T202113Z
UID:1246-1636070400-1636329599@www.ootbay.org
SUMMARY:William & Mary College Weekend
DESCRIPTION:
URL:https://www.ootbay.org/event/william-mary-college-weekend/
END:VEVENT
BEGIN:VEVENT
DTSTART;TZID=UTC:20211021T180000
DTEND;TZID=UTC:20211024T180000
DTSTAMP:20260424T142951
CREATED:20211005T201921Z
LAST-MODIFIED:20211005T201946Z
UID:1244-1634839200-1635098400@www.ootbay.org
SUMMARY:Women's Emmaus Walk
DESCRIPTION:
URL:https://www.ootbay.org/event/womens-emmaus-walk/
END:VEVENT
BEGIN:VEVENT
DTSTART;TZID=UTC:20211007T180000
DTEND;TZID=UTC:20211010T130000
DTSTAMP:20260424T142951
CREATED:20211005T143308Z
LAST-MODIFIED:20211005T143308Z
UID:1194-1633629600-1633870800@www.ootbay.org
SUMMARY:Walk to Emmaus Weekend
DESCRIPTION:
URL:https://www.ootbay.org/event/walk-to-emmaus-weekend/
END:VEVENT
END:VCALENDAR