BEGIN:VCALENDAR
VERSION:2.0
PRODID:-//Camp Occohannock on the Bay - ECPv6.15.13//NONSGML v1.0//EN
CALSCALE:GREGORIAN
METHOD:PUBLISH
X-WR-CALNAME:Camp Occohannock on the Bay
X-ORIGINAL-URL:https://www.ootbay.org
X-WR-CALDESC:Events for Camp Occohannock on the Bay
REFRESH-INTERVAL;VALUE=DURATION:PT1H
X-Robots-Tag:noindex
X-PUBLISHED-TTL:PT1H
BEGIN:VTIMEZONE
TZID:UTC
BEGIN:STANDARD
TZOFFSETFROM:+0000
TZOFFSETTO:+0000
TZNAME:UTC
DTSTART:20200101T000000
END:STANDARD
END:VTIMEZONE
BEGIN:VEVENT
DTSTART;VALUE=DATE:20211112
DTEND;VALUE=DATE:20211115
DTSTAMP:20260425T133158
CREATED:20211005T202315Z
LAST-MODIFIED:20211005T202315Z
UID:1248-1636675200-1636934399@www.ootbay.org
SUMMARY:Emmaus Men (H)
DESCRIPTION:
URL:https://www.ootbay.org/event/emmaus-men-h/
END:VEVENT
BEGIN:VEVENT
DTSTART;VALUE=DATE:20211105
DTEND;VALUE=DATE:20211108
DTSTAMP:20260425T133158
CREATED:20211005T202056Z
LAST-MODIFIED:20211005T202113Z
UID:1246-1636070400-1636329599@www.ootbay.org
SUMMARY:William & Mary College Weekend
DESCRIPTION:
URL:https://www.ootbay.org/event/william-mary-college-weekend/
END:VEVENT
BEGIN:VEVENT
DTSTART;TZID=UTC:20211021T180000
DTEND;TZID=UTC:20211024T180000
DTSTAMP:20260425T133158
CREATED:20211005T201921Z
LAST-MODIFIED:20211005T201946Z
UID:1244-1634839200-1635098400@www.ootbay.org
SUMMARY:Women's Emmaus Walk
DESCRIPTION:
URL:https://www.ootbay.org/event/womens-emmaus-walk/
END:VEVENT
BEGIN:VEVENT
DTSTART;TZID=UTC:20211007T180000
DTEND;TZID=UTC:20211010T130000
DTSTAMP:20260425T133158
CREATED:20211005T143308Z
LAST-MODIFIED:20211005T143308Z
UID:1194-1633629600-1633870800@www.ootbay.org
SUMMARY:Walk to Emmaus Weekend
DESCRIPTION:
URL:https://www.ootbay.org/event/walk-to-emmaus-weekend/
END:VEVENT
END:VCALENDAR