BEGIN:VCALENDAR
VERSION:2.0
PRODID:-//Camp Occohannock on the Bay - ECPv6.15.13//NONSGML v1.0//EN
CALSCALE:GREGORIAN
METHOD:PUBLISH
X-ORIGINAL-URL:https://www.ootbay.org
X-WR-CALDESC:Events for Camp Occohannock on the Bay
REFRESH-INTERVAL;VALUE=DURATION:PT1H
X-Robots-Tag:noindex
X-PUBLISHED-TTL:PT1H
BEGIN:VTIMEZONE
TZID:UTC
BEGIN:STANDARD
TZOFFSETFROM:+0000
TZOFFSETTO:+0000
TZNAME:UTC
DTSTART:20210101T000000
END:STANDARD
END:VTIMEZONE
BEGIN:VEVENT
DTSTART;VALUE=DATE:20220924
DTEND;VALUE=DATE:20220925
DTSTAMP:20260423T232913
CREATED:20220903T133404Z
LAST-MODIFIED:20220903T133404Z
UID:2498-1663977600-1664063999@www.ootbay.org
SUMMARY:Wedding - Vavquez
DESCRIPTION:
URL:https://www.ootbay.org/event/wedding-vavquez/
END:VEVENT
BEGIN:VEVENT
DTSTART;TZID=UTC:20220910T160000
DTEND;TZID=UTC:20220910T220000
DTSTAMP:20260423T232913
CREATED:20220903T133251Z
LAST-MODIFIED:20220903T133251Z
UID:2496-1662825600-1662847200@www.ootbay.org
SUMMARY:Emmaus Eastern Shore Reunion
DESCRIPTION:
URL:https://www.ootbay.org/event/emmaus-eastern-shore-reunion/
END:VEVENT
BEGIN:VEVENT
DTSTART;VALUE=DATE:20220907
DTEND;VALUE=DATE:20220915
DTSTAMP:20260423T232913
CREATED:20220903T133122Z
LAST-MODIFIED:20220903T133142Z
UID:2494-1662508800-1663199999@www.ootbay.org
SUMMARY:Mission team Cabin Rebuild
DESCRIPTION:Mission Team from Harrisonburg\, VA is building an addition on to Cabins 4 & 5
URL:https://www.ootbay.org/event/mission-team-cabin-rebuild/
END:VEVENT
BEGIN:VEVENT
DTSTART;VALUE=DATE:20220801
DTEND;VALUE=DATE:20220806
DTSTAMP:20260423T232913
CREATED:20211103T003302Z
LAST-MODIFIED:20211103T003302Z
UID:1730-1659312000-1659743999@www.ootbay.org
SUMMARY:Day Camp VII - Celebrate! It's a Party!
DESCRIPTION:Day Camp is an exciting new add-on this summer at Camp Occohannock. A great place for kids to spend the entire summer growing in their faith and enjoying recreation on our waterfront property. Each week is a themed experience offering engaging activities\, arts and crafts\, and a great place for children to experience the excitement and wonder of Camp. Your children will be engaged with their peers and counselors who want to make a difference! Each week offers a different experience. \nDay Campers: Monday – Friday\nDrop Off: 8am\nPick Up: 5pm \nRegister Here
URL:https://www.ootbay.org/event/day-camp-vii-celebrate-its-a-party/
END:VEVENT
BEGIN:VEVENT
DTSTART;VALUE=DATE:20220731
DTEND;VALUE=DATE:20220806
DTSTAMP:20260423T232913
CREATED:20211103T011238Z
LAST-MODIFIED:20211103T011238Z
UID:1752-1659225600-1659743999@www.ootbay.org
SUMMARY:Thrill Seekers IV
DESCRIPTION:These Camps are for the older youth looking for something that will teach them new skills\, life lessons\, responsibility\, and teamwork. These camps will get you to new heights\, push your limits\, and even get you out of your comfort zone. Thrill Seekers is a great program that will get your campers thinking about becoming a Counselor in Training in the future with Camp OOTB You won’t be alone and your staff are trained and ready for these adventures of a life time. \nDrop Off Sunday at 6:00pm\nPick Up Friday at 5:00pm \nRegister Here
URL:https://www.ootbay.org/event/thrill-seekers-iv/
END:VEVENT
BEGIN:VEVENT
DTSTART;VALUE=DATE:20220731
DTEND;VALUE=DATE:20220806
DTSTAMP:20260423T232913
CREATED:20211103T005020Z
LAST-MODIFIED:20211103T005020Z
UID:1740-1659225600-1659743999@www.ootbay.org
SUMMARY:Extreme Campers IV
DESCRIPTION:If you’re new to camping or returning for the tenth time this is where your summers will never be the same. This program builds on the foundation that camp is known for. Get involved with more rope course elements like the 30-foot-tall rock wall\, and overnight canoe trip\, staying up later\, more games\, more fun\, and spending more time getting to know your counselors and friends in an all-out camping experience. \nOvernight Campers:\nDrop Off: Sunday 6:00pm\nPick Up: Friday 5:00pm \nRegister Here
URL:https://www.ootbay.org/event/extreme-campers-iv/
END:VEVENT
BEGIN:VEVENT
DTSTART;VALUE=DATE:20220731
DTEND;VALUE=DATE:20220806
DTSTAMP:20260423T232913
CREATED:20211103T000830Z
LAST-MODIFIED:20211103T000830Z
UID:1712-1659225600-1659743999@www.ootbay.org
SUMMARY:Adventure Seeks IV
DESCRIPTION:This program is the next level of adventure for those that are ready to dive right into a weeklong\, non-stop\, and exciting camp experience. This is where campers will begin to develop leadership skills\, responsibilities for their actions\, become a team player\, and to care for the safety and wellbeing of the unit. Camp will introduce outdoor camping (Wednesday Night) where campers will learn to build their campfires\, cook their food\, set up tents and bond with their friends around a campfire and much\, much more.  This Camp can also be a Day Camp Only for campers not ready to do a full week over night. \nOvernight Campers:\nDrop Off: Sunday 6:00pm\nPick Up: Friday 5:00pm \nRegister Here
URL:https://www.ootbay.org/event/adventure-seeks-iv/
END:VEVENT
BEGIN:VEVENT
DTSTART;VALUE=DATE:20220731
DTEND;VALUE=DATE:20220803
DTSTAMP:20260423T232913
CREATED:20211103T013611Z
LAST-MODIFIED:20211103T013611Z
UID:1769-1659225600-1659484799@www.ootbay.org
SUMMARY:Young Explorers V
DESCRIPTION:This program is for children that are ready to step out in a small adventure of three days and two overnight stays at camp. Children at this age are exploring the world around them at full force with all their senses overwhelmed. What better place and time to introduce them to nature and God’s creation. This program is to strengthen the confidence in each camper in their decision to be away from home overnight for a few days. \nDrop Off Sunday at 6:00pm\nPick Up Friday at 5:00pm \nRegister Here
URL:https://www.ootbay.org/event/young-explorers-v/
END:VEVENT
BEGIN:VEVENT
DTSTART;VALUE=DATE:20220725
DTEND;VALUE=DATE:20220730
DTSTAMP:20260423T232913
CREATED:20211103T003120Z
LAST-MODIFIED:20211103T003120Z
UID:1727-1658707200-1659139199@www.ootbay.org
SUMMARY:Day Camp VI - Forts & More
DESCRIPTION:Day Camp is an exciting new add-on this summer at Camp Occohannock. A great place for kids to spend the entire summer growing in their faith and enjoying recreation on our waterfront property. Each week is a themed experience offering engaging activities\, arts and crafts\, and a great place for children to experience the excitement and wonder of Camp. Your children will be engaged with their peers and counselors who want to make a difference! Each week offers a different experience. \nDay Campers: Monday – Friday\nDrop Off: 8am\nPick Up: 5pm \nRegister Here
URL:https://www.ootbay.org/event/day-camp-vi-forts-more/
END:VEVENT
BEGIN:VEVENT
DTSTART;VALUE=DATE:20220724
DTEND;VALUE=DATE:20220730
DTSTAMP:20260423T232913
CREATED:20211124T005339Z
LAST-MODIFIED:20211124T010334Z
UID:1891-1658620800-1659139199@www.ootbay.org
SUMMARY:All God's Children
DESCRIPTION:Partnership Ministry of Camp Occohannock
URL:https://www.ootbay.org/event/all-gods-children/
END:VEVENT
BEGIN:VEVENT
DTSTART;VALUE=DATE:20220724
DTEND;VALUE=DATE:20220730
DTSTAMP:20260423T232913
CREATED:20211103T001535Z
LAST-MODIFIED:20211124T010021Z
UID:1714-1658620800-1659139199@www.ootbay.org
SUMMARY:Appalachian Trail Adventure
DESCRIPTION:Last year proved that any group of campers can over come challenges and being rewarded with beautiful scenery\, lasting friendships\, and a special trip to Pizza Hut when the trail cross a small town. If you’re really want something to talk about to your friends in the new school year\, then this adventure is for you. Spend a few days hiking and camping in shelters along the AT as the unit works its way from their starting point to Camp Bethel. Where campers will end their 35 mile hike with a dive in the swimming pool at camp Bethel. Come join us on the next steps to an awesome adventure. \n* Pastor Jon Woodburn will return for his 4th hike to be our Spiritual Leader.\n* Director Joel Coleman Michael Henry (Wilderness First Aid and CPR Certified) will lead this group \n* All Counselors (First Aid & CPR/AED Certified) will be guiding the campers. \nRegister Here
URL:https://www.ootbay.org/event/appalachian-trail-adventure/
END:VEVENT
BEGIN:VEVENT
DTSTART;VALUE=DATE:20220718
DTEND;VALUE=DATE:20220723
DTSTAMP:20260423T232913
CREATED:20211103T002951Z
LAST-MODIFIED:20211103T002951Z
UID:1725-1658102400-1658534399@www.ootbay.org
SUMMARY:Day Camp V - Make Some Noise
DESCRIPTION:Day Camp is an exciting new add-on this summer at Camp Occohannock. A great place for kids to spend the entire summer growing in their faith and enjoying recreation on our waterfront property. Each week is a themed experience offering engaging activities\, arts and crafts\, and a great place for children to experience the excitement and wonder of Camp. Your children will be engaged with their peers and counselors who want to make a difference! Each week offers a different experience. \nDay Campers: Monday – Friday\nDrop Off: 8am\nPick Up: 5pm \nRegister Here
URL:https://www.ootbay.org/event/day-camp-v-make-some-noise/
END:VEVENT
BEGIN:VEVENT
DTSTART;VALUE=DATE:20220717
DTEND;VALUE=DATE:20220723
DTSTAMP:20260423T232913
CREATED:20211103T011115Z
LAST-MODIFIED:20211103T011115Z
UID:1750-1658016000-1658534399@www.ootbay.org
SUMMARY:Thrill Seekers III
DESCRIPTION:These Camps are for the older youth looking for something that will teach them new skills\, life lessons\, responsibility\, and teamwork. These camps will get you to new heights\, push your limits\, and even get you out of your comfort zone. Thrill Seekers is a great program that will get your campers thinking about becoming a Counselor in Training in the future with Camp OOTB You won’t be alone and your staff are trained and ready for these adventures of a life time. \nDrop Off Sunday at 6:00pm\nPick Up Friday at 5:00pm \nRegister Here
URL:https://www.ootbay.org/event/thrill-seekers-iii/
END:VEVENT
BEGIN:VEVENT
DTSTART;VALUE=DATE:20220717
DTEND;VALUE=DATE:20220723
DTSTAMP:20260423T232913
CREATED:20211103T004804Z
LAST-MODIFIED:20211105T203434Z
UID:1736-1658016000-1658534399@www.ootbay.org
SUMMARY:Extreme Campers III
DESCRIPTION:If you’re new to camping or returning for the tenth time this is where your summers will never be the same. This program builds on the foundation that camp is known for. Get involved with more rope course elements like the 30-foot-tall rock wall\, and overnight canoe trip\, staying up later\, more games\, more fun\, and spending more time getting to know your counselors and friends in an all-out camping experience. \nOvernight Campers:\nDrop Off: Sunday 6:00pm\nPick Up: Friday 5:00pm \nRegister Here
URL:https://www.ootbay.org/event/extreme-campers-iii/
END:VEVENT
BEGIN:VEVENT
DTSTART;VALUE=DATE:20220717
DTEND;VALUE=DATE:20220723
DTSTAMP:20260423T232913
CREATED:20211103T000615Z
LAST-MODIFIED:20211103T000615Z
UID:1710-1658016000-1658534399@www.ootbay.org
SUMMARY:Adventure Seekers III
DESCRIPTION:This program is the next level of adventure for those that are ready to dive right into a weeklong\, non-stop\, and exciting camp experience. This is where campers will begin to develop leadership skills\, responsibilities for their actions\, become a team player\, and to care for the safety and wellbeing of the unit. Camp will introduce outdoor camping (Wednesday Night) where campers will learn to build their campfires\, cook their food\, set up tents and bond with their friends around a campfire and much\, much more.  This Camp can also be a Day Camp Only for campers not ready to do a full week over night. \nOvernight Campers:\nDrop Off: Sunday 6:00pm\nPick Up: Friday 5:00pm \nRegister Here
URL:https://www.ootbay.org/event/adventure-seekers-iii/
END:VEVENT
BEGIN:VEVENT
DTSTART;VALUE=DATE:20220717
DTEND;VALUE=DATE:20220720
DTSTAMP:20260423T232913
CREATED:20211103T013444Z
LAST-MODIFIED:20211103T013444Z
UID:1767-1658016000-1658275199@www.ootbay.org
SUMMARY:Young Explorers IV
DESCRIPTION:This program is for children that are ready to step out in a small adventure of three days and two overnight stays at camp. Children at this age are exploring the world around them at full force with all their senses overwhelmed. What better place and time to introduce them to nature and God’s creation. This program is to strengthen the confidence in each camper in their decision to be away from home overnight for a few days. \nDrop Off Sunday at 6:00pm\nPick Up Friday at 5:00pm \nRegister Here
URL:https://www.ootbay.org/event/young-explorers-iv/
END:VEVENT
BEGIN:VEVENT
DTSTART;VALUE=DATE:20220711
DTEND;VALUE=DATE:20220716
DTSTAMP:20260423T232913
CREATED:20211124T005105Z
LAST-MODIFIED:20211124T005105Z
UID:1889-1657497600-1657929599@www.ootbay.org
SUMMARY:Harvest of Hope
DESCRIPTION:Partnership Ministry of Camp Occohannock
URL:https://www.ootbay.org/event/harvest-of-hope/
END:VEVENT
BEGIN:VEVENT
DTSTART;VALUE=DATE:20220711
DTEND;VALUE=DATE:20220716
DTSTAMP:20260423T232913
CREATED:20211103T002745Z
LAST-MODIFIED:20211103T002745Z
UID:1723-1657497600-1657929599@www.ootbay.org
SUMMARY:Day Camp IV - Ninjas & Super heros
DESCRIPTION:Day Camp is an exciting new add-on this summer at Camp Occohannock. A great place for kids to spend the entire summer growing in their faith and enjoying recreation on our waterfront property. Each week is a themed experience offering engaging activities\, arts and crafts\, and a great place for children to experience the excitement and wonder of Camp. Your children will be engaged with their peers and counselors who want to make a difference! Each week offers a different experience. \nDay Campers: Monday – Friday\nDrop Off: 8am\nPick Up: 5pm \nRegister Here
URL:https://www.ootbay.org/event/day-camp-iv-ninjas-super-heros/
END:VEVENT
BEGIN:VEVENT
DTSTART;TZID=UTC:20220710T180000
DTEND;TZID=UTC:20220715T150000
DTSTAMP:20260423T232913
CREATED:20211119T224823Z
LAST-MODIFIED:20220704T184815Z
UID:1848-1657476000-1657897200@www.ootbay.org
SUMMARY:Camp OOTB to Bethel
DESCRIPTION:Join us for this exciting adventure from the Bay to Bethel \nMonday: Get to Bethel\, Rock Wall\, Zip Line\, Low Challenge Course and other traditional camp activities\nTuesday: Day Hike and lunch out\nWednesday: Travel to Alta Mons waterfall\, a visit to the Pinball Machine \,dinner and up to the Mill Mountain Star before returning back to Bethel\nThursday: Tubing down the James River\, more Camp Bethel Activities\, then closing\nFriday: Return to Camp Occohannock \nRegister Here
URL:https://www.ootbay.org/event/camp-ootb-to-bethel/
END:VEVENT
BEGIN:VEVENT
DTSTART;VALUE=DATE:20220705
DTEND;VALUE=DATE:20220709
DTSTAMP:20260423T232913
CREATED:20211103T013334Z
LAST-MODIFIED:20211124T004130Z
UID:1765-1656979200-1657324799@www.ootbay.org
SUMMARY:Young Explorers III
DESCRIPTION:This program is for children that are ready to step out in a small adventure of three days and two overnight stays at camp. Children at this age are exploring the world around them at full force with all their senses overwhelmed. What better place and time to introduce them to nature and God’s creation. This program is to strengthen the confidence in each camper in their decision to be away from home overnight for a few days. \nDrop Off Sunday at 6:00pm\nPick Up Friday at 5:00pm \nRegister Here
URL:https://www.ootbay.org/event/young-explorers-iii/
END:VEVENT
BEGIN:VEVENT
DTSTART;VALUE=DATE:20220704
DTEND;VALUE=DATE:20220709
DTSTAMP:20260423T232913
CREATED:20211103T002521Z
LAST-MODIFIED:20220606T174812Z
UID:1721-1656892800-1657324799@www.ootbay.org
SUMMARY:Day Camp III - Make A Splash
DESCRIPTION:Day Camp is an exciting new add-on this summer at Camp Occohannock. A great place for kids to spend the entire summer growing in their faith and enjoying recreation on our waterfront property. Each week is a themed experience offering engaging activities\, arts and crafts\, and a great place for children to experience the excitement and wonder of Camp. Your children will be engaged with their peers and counselors who want to make a difference! Each week offers a different experience. \nDay Campers: Monday – Friday\nDrop Off: 8am\nPick Up: 5pm \nRegister Here
URL:https://www.ootbay.org/event/day-camp-iii-make-a-splash/
END:VEVENT
BEGIN:VEVENT
DTSTART;VALUE=DATE:20220703
DTEND;VALUE=DATE:20220709
DTSTAMP:20260423T232913
CREATED:20211103T011633Z
LAST-MODIFIED:20220704T184235Z
UID:1754-1656806400-1657324799@www.ootbay.org
SUMMARY:Up All Night Camp
DESCRIPTION:What can be better than staying up all night during the summer! Up All-Night Camp is all about doing most camp activities under the light of the moon and stars. Campers will go to bed at 2am to end their day and wake up 11am to start their day of fun (roughly 8 hours of sleep). Watch movies\, play board games\, late night snacks\, traditional camp activities\, and much more. Campers please bring flashlights and long-sleeved clothes. Come and play by the light of the moon at Camp Occohannock. \nDrop Off – Sunday at 6:00pm\nPick Up – Friday at 3:00pm \nAdded New Older Session \nRegister Here
URL:https://www.ootbay.org/event/up-all-night-camp-i/
END:VEVENT
BEGIN:VEVENT
DTSTART;TZID=UTC:20220702T160000
DTEND;TZID=UTC:20220704T160000
DTSTAMP:20260423T232913
CREATED:20221213T010815Z
LAST-MODIFIED:20221213T011006Z
UID:2902-1656777600-1656950400@www.ootbay.org
SUMMARY:Family Camp
DESCRIPTION:Register Now
URL:https://www.ootbay.org/event/family-camp/
END:VEVENT
BEGIN:VEVENT
DTSTART;TZID=UTC:20220702T160000
DTEND;TZID=UTC:20220704T150000
DTSTAMP:20260423T232913
CREATED:20221213T021251Z
LAST-MODIFIED:20221213T021251Z
UID:2948-1656777600-1656946800@www.ootbay.org
SUMMARY:Family Camp
DESCRIPTION:Register Now
URL:https://www.ootbay.org/event/family-camp-2/
END:VEVENT
BEGIN:VEVENT
DTSTART;VALUE=DATE:20220627
DTEND;VALUE=DATE:20220702
DTSTAMP:20260423T232913
CREATED:20211103T002308Z
LAST-MODIFIED:20211103T002308Z
UID:1719-1656288000-1656719999@www.ootbay.org
SUMMARY:Day Camp II - Sports
DESCRIPTION:Day Camp is an exciting new add-on this summer at Camp Occohannock. A great place for kids to spend the entire summer growing in their faith and enjoying recreation on our waterfront property. Each week is a themed experience offering engaging activities\, arts and crafts\, and a great place for children to experience the excitement and wonder of Camp. Your children will be engaged with their peers and counselors who want to make a difference! Each week offers a different experience. \nDay Campers: Monday – Friday\nDrop Off: 8am\nPick Up: 5pm \nRegister Here
URL:https://www.ootbay.org/event/day-camp-ii-sports/
END:VEVENT
BEGIN:VEVENT
DTSTART;VALUE=DATE:20220626
DTEND;VALUE=DATE:20220702
DTSTAMP:20260423T232913
CREATED:20211103T010915Z
LAST-MODIFIED:20211103T010915Z
UID:1748-1656201600-1656719999@www.ootbay.org
SUMMARY:Thrill Seekers II
DESCRIPTION:These Camps are for the older youth looking for something that will teach them new skills\, life lessons\, responsibility\, and teamwork. These camps will get you to new heights\, push your limits\, and even get you out of your comfort zone. Thrill Seekers is a great program that will get your campers thinking about becoming a Counselor in Training in the future with Camp OOTB You won’t be alone and your staff are trained and ready for these adventures of a life time. \nDrop Off Sunday at 6:00pm\nPick Up Friday at 5:00pm \nRegister Here
URL:https://www.ootbay.org/event/thrill-seekers-ii/
END:VEVENT
BEGIN:VEVENT
DTSTART;VALUE=DATE:20220626
DTEND;VALUE=DATE:20220702
DTSTAMP:20260423T232913
CREATED:20211103T005823Z
LAST-MODIFIED:20220527T131325Z
UID:1742-1656201600-1656719999@www.ootbay.org
SUMMARY:Horse Camp
DESCRIPTION:Camp Occohannock has partnered with Kerkaken Acres for Horse. Each camper will leave from Camp Occohannock for this trip and travel camp to Bloxom\, VA and learn not just about riding horses\, but also how to provide care for them from experienced horse owners. It’s an entire experience you won’t want to miss and great for beginners and intermediate riders who are interested in horses and animal care. In addition\, to this experience campers will have the opportunity to enjoy all the Bay has to offer during the afternoons\, as well as\, having those special worship experiences each night. \nLimit 10 Participants / New Added Older Session \nDrop Off Sunday at 6:00pm\nPick Up Friday at 5:00pm \nRegister Here
URL:https://www.ootbay.org/event/horse-camp/
END:VEVENT
BEGIN:VEVENT
DTSTART;VALUE=DATE:20220626
DTEND;VALUE=DATE:20220702
DTSTAMP:20260423T232913
CREATED:20211103T004429Z
LAST-MODIFIED:20211103T004429Z
UID:1734-1656201600-1656719999@www.ootbay.org
SUMMARY:Extreme Campers II
DESCRIPTION:If you’re new to camping or returning for the tenth time this is where your summers will never be the same. This program builds on the foundation that camp is known for. Get involved with more rope course elements like the 30-foot-tall rock wall\, and overnight canoe trip\, staying up later\, more games\, more fun\, and spending more time getting to know your counselors and friends in an all-out camping experience. \nOvernight Campers:\nDrop Off: Sunday 6:00pm\nPick Up: Friday 5:00pm \nRegister Here
URL:https://www.ootbay.org/event/extreme-campers-ii/
END:VEVENT
BEGIN:VEVENT
DTSTART;VALUE=DATE:20220626
DTEND;VALUE=DATE:20220702
DTSTAMP:20260423T232913
CREATED:20211103T000411Z
LAST-MODIFIED:20211103T000411Z
UID:1708-1656201600-1656719999@www.ootbay.org
SUMMARY:Adventure Seekers II
DESCRIPTION:This program is the next level of adventure for those that are ready to dive right into a weeklong\, non-stop\, and exciting camp experience. This is where campers will begin to develop leadership skills\, responsibilities for their actions\, become a team player\, and to care for the safety and wellbeing of the unit. Camp will introduce outdoor camping (Wednesday Night) where campers will learn to build their campfires\, cook their food\, set up tents and bond with their friends around a campfire and much\, much more.  This Camp can also be a Day Camp Only for campers not ready to do a full week over night. \nOvernight Campers:\nDrop Off: Sunday 6:00pm\nPick Up: Friday 5:00pm \nRegister Here
URL:https://www.ootbay.org/event/adventure-seekers-ii/
END:VEVENT
BEGIN:VEVENT
DTSTART;VALUE=DATE:20220626
DTEND;VALUE=DATE:20220629
DTSTAMP:20260423T232913
CREATED:20211103T013158Z
LAST-MODIFIED:20211103T013158Z
UID:1763-1656201600-1656460799@www.ootbay.org
SUMMARY:Young Explorers II
DESCRIPTION:This program is for children that are ready to step out in a small adventure of three days and two overnight stays at camp. Children at this age are exploring the world around them at full force with all their senses overwhelmed. What better place and time to introduce them to nature and God’s creation. This program is to strengthen the confidence in each camper in their decision to be away from home overnight for a few days. \nDrop Off Sunday at 6:00pm\nPick Up Friday at 5:00pm \nRegister Here
URL:https://www.ootbay.org/event/young-explorers-ii/
END:VEVENT
END:VCALENDAR