BEGIN:VCALENDAR
VERSION:2.0
PRODID:-//Camp Occohannock on the Bay - ECPv6.15.13//NONSGML v1.0//EN
CALSCALE:GREGORIAN
METHOD:PUBLISH
X-ORIGINAL-URL:https://www.ootbay.org
X-WR-CALDESC:Events for Camp Occohannock on the Bay
REFRESH-INTERVAL;VALUE=DURATION:PT1H
X-Robots-Tag:noindex
X-PUBLISHED-TTL:PT1H
BEGIN:VTIMEZONE
TZID:UTC
BEGIN:STANDARD
TZOFFSETFROM:+0000
TZOFFSETTO:+0000
TZNAME:UTC
DTSTART:20250101T000000
END:STANDARD
END:VTIMEZONE
BEGIN:VEVENT
DTSTART;VALUE=DATE:20260423
DTEND;VALUE=DATE:20260427
DTSTAMP:20260423T065500
CREATED:20260129T174521Z
LAST-MODIFIED:20260129T174521Z
UID:7535-1776902400-1777247999@www.ootbay.org
SUMMARY:Women's Eastern Shore Emmaus
DESCRIPTION:
URL:https://www.ootbay.org/event/womens-eastern-shore-emmaus/
END:VEVENT
BEGIN:VEVENT
DTSTART;VALUE=DATE:20260515
DTEND;VALUE=DATE:20260518
DTSTAMP:20260423T065500
CREATED:20260129T174635Z
LAST-MODIFIED:20260129T174635Z
UID:7537-1778803200-1779062399@www.ootbay.org
SUMMARY:UMC Confirmation District Retreat
DESCRIPTION:TBA
URL:https://www.ootbay.org/event/umc-confirmation-district-retreat/
END:VEVENT
BEGIN:VEVENT
DTSTART;VALUE=DATE:20260601
DTEND;VALUE=DATE:20260614
DTSTAMP:20260423T065500
CREATED:20260129T175009Z
LAST-MODIFIED:20260129T180705Z
UID:7539-1780272000-1781395199@www.ootbay.org
SUMMARY:Summer Staff Training
DESCRIPTION:Join the Team
URL:https://www.ootbay.org/event/summer-staff-training-2/
ATTACH;FMTTYPE=image/jpeg:https://www.ootbay.org/wp-content/uploads/2023/12/IMG_6178-scaled.jpg
END:VEVENT
BEGIN:VEVENT
DTSTART;TZID=UTC:20260614T160000
DTEND;TZID=UTC:20260619T140000
DTSTAMP:20260423T065500
CREATED:20260129T181023Z
LAST-MODIFIED:20260206T202209Z
UID:7541-1781452800-1781877600@www.ootbay.org
SUMMARY:Week 1 Camp - Elementary / Middle School
DESCRIPTION:Registration & Information
URL:https://www.ootbay.org/event/week-1-summer-camp-elementary-middle-school/
ATTACH;FMTTYPE=image/png:https://www.ootbay.org/wp-content/uploads/2025/10/2026-Summer-Camp-Schedule-3.png
END:VEVENT
BEGIN:VEVENT
DTSTART;TZID=UTC:20260615T080000
DTEND;TZID=UTC:20260619T170000
DTSTAMP:20260423T065500
CREATED:20260206T195228Z
LAST-MODIFIED:20260206T195228Z
UID:7586-1781510400-1781888400@www.ootbay.org
SUMMARY:Week 1 - Day Camp
DESCRIPTION:Registration & Information
URL:https://www.ootbay.org/event/week-1-day-camp/
ATTACH;FMTTYPE=image/jpeg:https://www.ootbay.org/wp-content/uploads/2025/10/daycamp2026.jpg
END:VEVENT
BEGIN:VEVENT
DTSTART;TZID=UTC:20260621T160000
DTEND;TZID=UTC:20260626T140000
DTSTAMP:20260423T065500
CREATED:20260206T193923Z
LAST-MODIFIED:20260206T194439Z
UID:7571-1782057600-1782482400@www.ootbay.org
SUMMARY:Week 2 Camp - Elementary / Middle School
DESCRIPTION:Registration & Information
URL:https://www.ootbay.org/event/week-2-camp-elementary-middle-school-2/
ATTACH;FMTTYPE=image/png:https://www.ootbay.org/wp-content/uploads/2025/10/2026-Summer-Camp-Schedule-3.png
END:VEVENT
BEGIN:VEVENT
DTSTART;TZID=UTC:20260622T080000
DTEND;TZID=UTC:20260626T170000
DTSTAMP:20260423T065500
CREATED:20260206T195328Z
LAST-MODIFIED:20260206T195328Z
UID:7588-1782115200-1782493200@www.ootbay.org
SUMMARY:Week 2 - Day Camp
DESCRIPTION:Registration & Information
URL:https://www.ootbay.org/event/week-2-day-camp/
ATTACH;FMTTYPE=image/jpeg:https://www.ootbay.org/wp-content/uploads/2025/10/daycamp2026.jpg
END:VEVENT
BEGIN:VEVENT
DTSTART;TZID=UTC:20260628T160000
DTEND;TZID=UTC:20260703T140000
DTSTAMP:20260423T065500
CREATED:20260206T194211Z
LAST-MODIFIED:20260206T194500Z
UID:7574-1782662400-1783087200@www.ootbay.org
SUMMARY:Week 3 Camp - High School
DESCRIPTION:Registration & Information
URL:https://www.ootbay.org/event/week-3-camp-high-school/
ATTACH;FMTTYPE=image/png:https://www.ootbay.org/wp-content/uploads/2025/10/2026-Summer-Camp-Schedule-3.png
END:VEVENT
BEGIN:VEVENT
DTSTART;TZID=UTC:20260629T080000
DTEND;TZID=UTC:20260703T170000
DTSTAMP:20260423T065500
CREATED:20260206T195433Z
LAST-MODIFIED:20260206T195433Z
UID:7590-1782720000-1783098000@www.ootbay.org
SUMMARY:Week 3 - Day Camp
DESCRIPTION:Registration & Information
URL:https://www.ootbay.org/event/week-3-day-camp/
ATTACH;FMTTYPE=image/jpeg:https://www.ootbay.org/wp-content/uploads/2025/10/daycamp2026.jpg
END:VEVENT
BEGIN:VEVENT
DTSTART;TZID=UTC:20260705T160000
DTEND;TZID=UTC:20260710T140000
DTSTAMP:20260423T065500
CREATED:20260206T194402Z
LAST-MODIFIED:20260206T194402Z
UID:7576-1783267200-1783692000@www.ootbay.org
SUMMARY:Week 4 Camp - Elementary & Middle School
DESCRIPTION:Registration & Information
URL:https://www.ootbay.org/event/week-4-camp-elementary-middle-school/
ATTACH;FMTTYPE=image/png:https://www.ootbay.org/wp-content/uploads/2025/10/2026-Summer-Camp-Schedule-3.png
END:VEVENT
BEGIN:VEVENT
DTSTART;TZID=UTC:20260706T080000
DTEND;TZID=UTC:20260710T170000
DTSTAMP:20260423T065500
CREATED:20260206T195521Z
LAST-MODIFIED:20260206T195521Z
UID:7592-1783324800-1783702800@www.ootbay.org
SUMMARY:Week 4 - Day Camp
DESCRIPTION:Registration & Information
URL:https://www.ootbay.org/event/week-4-day-camp/
ATTACH;FMTTYPE=image/jpeg:https://www.ootbay.org/wp-content/uploads/2025/10/daycamp2026.jpg
END:VEVENT
BEGIN:VEVENT
DTSTART;TZID=UTC:20260712T160000
DTEND;TZID=UTC:20260717T140000
DTSTAMP:20260423T065500
CREATED:20260206T194635Z
LAST-MODIFIED:20260206T194635Z
UID:7578-1783872000-1784296800@www.ootbay.org
SUMMARY:Week 5 Camp - Elementary & Middle School
DESCRIPTION:Registration & Information
URL:https://www.ootbay.org/event/week-5-camp-elementary-middle-school/
ATTACH;FMTTYPE=image/png:https://www.ootbay.org/wp-content/uploads/2025/10/2026-Summer-Camp-Schedule-3.png
END:VEVENT
BEGIN:VEVENT
DTSTART;TZID=UTC:20260713T080000
DTEND;TZID=UTC:20260717T170000
DTSTAMP:20260423T065500
CREATED:20260206T195608Z
LAST-MODIFIED:20260206T195608Z
UID:7594-1783929600-1784307600@www.ootbay.org
SUMMARY:Week 5 - Day Camp
DESCRIPTION:Registration & Information
URL:https://www.ootbay.org/event/week-5-day-camp/
ATTACH;FMTTYPE=image/jpeg:https://www.ootbay.org/wp-content/uploads/2025/10/daycamp2026.jpg
END:VEVENT
BEGIN:VEVENT
DTSTART;TZID=UTC:20260719T160000
DTEND;TZID=UTC:20260724T140000
DTSTAMP:20260423T065500
CREATED:20260206T194811Z
LAST-MODIFIED:20260206T194811Z
UID:7580-1784476800-1784901600@www.ootbay.org
SUMMARY:Week 6 Camp - Elementary & Middle School
DESCRIPTION:Registration & Information
URL:https://www.ootbay.org/event/week-6-camp-elementary-middle-school/
ATTACH;FMTTYPE=image/png:https://www.ootbay.org/wp-content/uploads/2025/10/2026-Summer-Camp-Schedule-3.png
END:VEVENT
BEGIN:VEVENT
DTSTART;TZID=UTC:20260720T080000
DTEND;TZID=UTC:20260724T170000
DTSTAMP:20260423T065500
CREATED:20260206T195709Z
LAST-MODIFIED:20260206T195709Z
UID:7596-1784534400-1784912400@www.ootbay.org
SUMMARY:Week 6 - Day Camp
DESCRIPTION:Registration & Information
URL:https://www.ootbay.org/event/week-6-day-camp/
ATTACH;FMTTYPE=image/jpeg:https://www.ootbay.org/wp-content/uploads/2025/10/daycamp2026.jpg
END:VEVENT
BEGIN:VEVENT
DTSTART;TZID=UTC:20260726T160000
DTEND;TZID=UTC:20260731T140000
DTSTAMP:20260423T065500
CREATED:20260206T194924Z
LAST-MODIFIED:20260206T194924Z
UID:7582-1785081600-1785506400@www.ootbay.org
SUMMARY:Week 7 Camp - High School
DESCRIPTION:Registration & Information
URL:https://www.ootbay.org/event/week-7-camp-high-school/
ATTACH;FMTTYPE=image/png:https://www.ootbay.org/wp-content/uploads/2025/10/2026-Summer-Camp-Schedule-3.png
END:VEVENT
BEGIN:VEVENT
DTSTART;TZID=UTC:20260727T080000
DTEND;TZID=UTC:20260731T170000
DTSTAMP:20260423T065500
CREATED:20260206T195800Z
LAST-MODIFIED:20260206T195800Z
UID:7598-1785139200-1785517200@www.ootbay.org
SUMMARY:Week 7- Day Camp
DESCRIPTION:Registration & Information
URL:https://www.ootbay.org/event/week-7-day-camp/
ATTACH;FMTTYPE=image/jpeg:https://www.ootbay.org/wp-content/uploads/2025/10/daycamp2026.jpg
END:VEVENT
BEGIN:VEVENT
DTSTART;TZID=UTC:20260802T160000
DTEND;TZID=UTC:20260807T140000
DTSTAMP:20260423T065500
CREATED:20260206T195056Z
LAST-MODIFIED:20260206T195056Z
UID:7584-1785686400-1786111200@www.ootbay.org
SUMMARY:Week 8 - Impact Week (8th-12th grade)
DESCRIPTION:Registration & Information
URL:https://www.ootbay.org/event/week-8-impact-week-8th-12th-grade/
ATTACH;FMTTYPE=image/png:https://www.ootbay.org/wp-content/uploads/2025/10/2026-Summer-Camp-Schedule-3.png
END:VEVENT
BEGIN:VEVENT
DTSTART;TZID=UTC:20260803T080000
DTEND;TZID=UTC:20260807T170000
DTSTAMP:20260423T065500
CREATED:20260206T195909Z
LAST-MODIFIED:20260206T195909Z
UID:7600-1785744000-1786122000@www.ootbay.org
SUMMARY:Week 8 - Day Camp
DESCRIPTION:Registration & Information
URL:https://www.ootbay.org/event/week-8-day-camp/
ATTACH;FMTTYPE=image/jpeg:https://www.ootbay.org/wp-content/uploads/2025/10/daycamp2026.jpg
END:VEVENT
END:VCALENDAR