BEGIN:VCALENDAR
VERSION:2.0
PRODID:-//Camp Occohannock on the Bay - ECPv6.15.13//NONSGML v1.0//EN
CALSCALE:GREGORIAN
METHOD:PUBLISH
X-WR-CALNAME:Camp Occohannock on the Bay
X-ORIGINAL-URL:https://www.ootbay.org
X-WR-CALDESC:Events for Camp Occohannock on the Bay
REFRESH-INTERVAL;VALUE=DURATION:PT1H
X-Robots-Tag:noindex
X-PUBLISHED-TTL:PT1H
BEGIN:VTIMEZONE
TZID:UTC
BEGIN:STANDARD
TZOFFSETFROM:+0000
TZOFFSETTO:+0000
TZNAME:UTC
DTSTART:20250101T000000
END:STANDARD
END:VTIMEZONE
BEGIN:VEVENT
DTSTART;TZID=UTC:20260705T160000
DTEND;TZID=UTC:20260710T140000
DTSTAMP:20260423T113918
CREATED:20260206T194402Z
LAST-MODIFIED:20260206T194402Z
UID:7576-1783267200-1783692000@www.ootbay.org
SUMMARY:Week 4 Camp - Elementary & Middle School
DESCRIPTION:Registration & Information
URL:https://www.ootbay.org/event/week-4-camp-elementary-middle-school/
ATTACH;FMTTYPE=image/png:https://www.ootbay.org/wp-content/uploads/2025/10/2026-Summer-Camp-Schedule-3.png
END:VEVENT
END:VCALENDAR