BEGIN:VCALENDAR
VERSION:2.0
PRODID:-//Camp Occohannock on the Bay - ECPv6.15.13//NONSGML v1.0//EN
CALSCALE:GREGORIAN
METHOD:PUBLISH
X-ORIGINAL-URL:https://www.ootbay.org
X-WR-CALDESC:Events for Camp Occohannock on the Bay
REFRESH-INTERVAL;VALUE=DURATION:PT1H
X-Robots-Tag:noindex
X-PUBLISHED-TTL:PT1H
BEGIN:VTIMEZONE
TZID:UTC
BEGIN:STANDARD
TZOFFSETFROM:+0000
TZOFFSETTO:+0000
TZNAME:UTC
DTSTART:20240101T000000
END:STANDARD
END:VTIMEZONE
BEGIN:VEVENT
DTSTART;TZID=UTC:20250622T160000
DTEND;TZID=UTC:20250627T140000
DTSTAMP:20260424T000526
CREATED:20250204T160834Z
LAST-MODIFIED:20250205T153438Z
UID:6855-1750608000-1751032800@www.ootbay.org
SUMMARY:Week 2: Elementary Camp
DESCRIPTION:Elementary Camp: A week long adventure of climbing trees\, swimming\, playing\, making friends\, growing in faith and more.
URL:https://www.ootbay.org/event/week-2-elementary/
ATTACH;FMTTYPE=image/png:https://www.ootbay.org/wp-content/uploads/2025/02/2-5.png
END:VEVENT
BEGIN:VEVENT
DTSTART;TZID=UTC:20250622T160000
DTEND;TZID=UTC:20250627T140000
DTSTAMP:20260424T000526
CREATED:20250204T161848Z
LAST-MODIFIED:20250204T175243Z
UID:6864-1750608000-1751032800@www.ootbay.org
SUMMARY:Week 2: Middle School Camp
DESCRIPTION:Middle School: A week long adventure of climbing trees\, swimming\, playing\, making friends\, growing in faith and more.
URL:https://www.ootbay.org/event/week-2-middle-school-camp/
ATTACH;FMTTYPE=image/png:https://www.ootbay.org/wp-content/uploads/2025/02/2-5.png
END:VEVENT
BEGIN:VEVENT
DTSTART;TZID=UTC:20250623T074500
DTEND;TZID=UTC:20250627T170000
DTSTAMP:20260424T000526
CREATED:20250204T173625Z
LAST-MODIFIED:20250204T173646Z
UID:6880-1750664700-1751043600@www.ootbay.org
SUMMARY:Day Camp Week 2: Mission Impossible
DESCRIPTION:Includes specialized leveled programming groups that include ages 4-9 years of age \nTheme: Mission Impossible \nWe can Solve Problems. We’ll explore our detective skills to solve mysteries.  Calling our Secret Agents for a fun week! \nDiscount for 6 or more weeks
URL:https://www.ootbay.org/event/day-camp-week-2-mission-impossible/
ATTACH;FMTTYPE=image/png:https://www.ootbay.org/wp-content/uploads/2025/02/2-5.png
END:VEVENT
END:VCALENDAR