BEGIN:VCALENDAR
VERSION:2.0
PRODID:-//Camp Occohannock on the Bay - ECPv6.15.13//NONSGML v1.0//EN
CALSCALE:GREGORIAN
METHOD:PUBLISH
X-ORIGINAL-URL:https://www.ootbay.org
X-WR-CALDESC:Events for Camp Occohannock on the Bay
REFRESH-INTERVAL;VALUE=DURATION:PT1H
X-Robots-Tag:noindex
X-PUBLISHED-TTL:PT1H
BEGIN:VTIMEZONE
TZID:UTC
BEGIN:STANDARD
TZOFFSETFROM:+0000
TZOFFSETTO:+0000
TZNAME:UTC
DTSTART:20240101T000000
END:STANDARD
END:VTIMEZONE
BEGIN:VEVENT
DTSTART;VALUE=DATE:20250424
DTEND;VALUE=DATE:20250428
DTSTAMP:20260424T032116
CREATED:20250205T150729Z
LAST-MODIFIED:20250205T150940Z
UID:6912-1745452800-1745798399@www.ootbay.org
SUMMARY:ES Woman's Emmaus
DESCRIPTION:
URL:https://www.ootbay.org/event/es-womans-emmaus/
ATTACH;FMTTYPE=image/jpeg:https://www.ootbay.org/wp-content/uploads/2022/09/IMG_4245.jpg
END:VEVENT
END:VCALENDAR