BEGIN:VCALENDAR
VERSION:2.0
PRODID:-//Camp Occohannock on the Bay - ECPv6.15.13//NONSGML v1.0//EN
CALSCALE:GREGORIAN
METHOD:PUBLISH
X-WR-CALNAME:Camp Occohannock on the Bay
X-ORIGINAL-URL:https://www.ootbay.org
X-WR-CALDESC:Events for Camp Occohannock on the Bay
REFRESH-INTERVAL;VALUE=DURATION:PT1H
X-Robots-Tag:noindex
X-PUBLISHED-TTL:PT1H
BEGIN:VTIMEZONE
TZID:UTC
BEGIN:STANDARD
TZOFFSETFROM:+0000
TZOFFSETTO:+0000
TZNAME:UTC
DTSTART:20230101T000000
END:STANDARD
END:VTIMEZONE
BEGIN:VEVENT
DTSTART;TZID=UTC:20240630T160000
DTEND;TZID=UTC:20240705T150000
DTSTAMP:20260424T204811
CREATED:20240111T162833Z
LAST-MODIFIED:20240111T162833Z
UID:6487-1719763200-1720191600@www.ootbay.org
SUMMARY:High School Busch Gardens Trip Week 3
DESCRIPTION:Information & Registration Here: \nSummer Camp Residential
URL:https://www.ootbay.org/event/high-school-busch-gardens-trip-week-3/
END:VEVENT
BEGIN:VEVENT
DTSTART;TZID=UTC:20240701T080000
DTEND;TZID=UTC:20240705T170000
DTSTAMP:20260424T204811
CREATED:20240111T154839Z
LAST-MODIFIED:20240111T154839Z
UID:6459-1719820800-1720198800@www.ootbay.org
SUMMARY:Week 3 Day Camp - Red\, White & Blue
DESCRIPTION:Check Out Information & Registration Here: \nSummer Camp Day Camp \n \n 
URL:https://www.ootbay.org/event/week-3-day-camp-red-white-blue/
END:VEVENT
BEGIN:VEVENT
DTSTART;TZID=UTC:20240701T080000
DTEND;TZID=UTC:20240705T170000
DTSTAMP:20260424T204811
CREATED:20240111T170053Z
LAST-MODIFIED:20240111T170743Z
UID:6513-1719820800-1720198800@www.ootbay.org
SUMMARY:L.E.A.P Day Camp Week 3
DESCRIPTION:Information on both Day and Residential Pages \nSummer Camp Options
URL:https://www.ootbay.org/event/l-e-a-p-day-camp-week-3-2/
END:VEVENT
END:VCALENDAR