BEGIN:VCALENDAR
VERSION:2.0
PRODID:-//Camp Occohannock on the Bay - ECPv6.15.13//NONSGML v1.0//EN
CALSCALE:GREGORIAN
METHOD:PUBLISH
X-ORIGINAL-URL:https://www.ootbay.org
X-WR-CALDESC:Events for Camp Occohannock on the Bay
REFRESH-INTERVAL;VALUE=DURATION:PT1H
X-Robots-Tag:noindex
X-PUBLISHED-TTL:PT1H
BEGIN:VTIMEZONE
TZID:UTC
BEGIN:STANDARD
TZOFFSETFROM:+0000
TZOFFSETTO:+0000
TZNAME:UTC
DTSTART:20230101T000000
END:STANDARD
END:VTIMEZONE
BEGIN:VEVENT
DTSTART;TZID=UTC:20240411T180000
DTEND;TZID=UTC:20240414T180000
DTSTAMP:20260425T002220
CREATED:20231017T145952Z
LAST-MODIFIED:20231017T145952Z
UID:6181-1712858400-1713117600@www.ootbay.org
SUMMARY:E.S. Walk to Emmaus Men's Weekend
DESCRIPTION:
URL:https://www.ootbay.org/event/e-s-walk-to-emmaus-mens-weekend/
END:VEVENT
END:VCALENDAR